BEGIN:VCALENDAR
VERSION:2.0
PRODID:-//Colegio De La Salle, Santiago - ECPv6.15.20//NONSGML v1.0//EN
CALSCALE:GREGORIAN
METHOD:PUBLISH
X-ORIGINAL-URL:https://dev.delasallesantiago.edu.do
X-WR-CALDESC:Eventos para Colegio De La Salle, Santiago
REFRESH-INTERVAL;VALUE=DURATION:PT1H
X-Robots-Tag:noindex
X-PUBLISHED-TTL:PT1H
BEGIN:VTIMEZONE
TZID:UTC
BEGIN:STANDARD
TZOFFSETFROM:+0000
TZOFFSETTO:+0000
TZNAME:UTC
DTSTART:20210101T000000
END:STANDARD
END:VTIMEZONE
BEGIN:VEVENT
DTSTART;VALUE=DATE:20221130
DTEND;VALUE=DATE:20221201
DTSTAMP:20260424T033413
CREATED:20221025T125045Z
LAST-MODIFIED:20221025T125045Z
UID:1127-1669766400-1669852799@dev.delasallesantiago.edu.do
SUMMARY:Comilona 5to grado
DESCRIPTION:Primaria II
URL:https://dev.delasallesantiago.edu.do/event/comilona-5to-grado/
LOCATION:Colegio De La Salle\, Santiago\, F855+443\, Av. Juan Pablo Duarte 88\, Santiago De Los Caballeros\, 51000\, Dominican Republic
END:VEVENT
BEGIN:VEVENT
DTSTART;TZID=UTC:20221129T190000
DTEND;TZID=UTC:20221129T210000
DTSTAMP:20260424T033413
CREATED:20221025T124657Z
LAST-MODIFIED:20221025T124657Z
UID:1125-1669748400-1669755600@dev.delasallesantiago.edu.do
SUMMARY:Escuela de Padres y Madres
DESCRIPTION:Taller de 4 días: “Conviviendo en Armonía” 4/4 \nFamilias de Preprimario\, Primaria I y II – de 7:00 pm a 8:45 pm \nDpto. de Orientación
URL:https://dev.delasallesantiago.edu.do/event/escuela-de-padres-y-madres-4/
LOCATION:Colegio De La Salle\, Santiago\, F855+443\, Av. Juan Pablo Duarte 88\, Santiago De Los Caballeros\, 51000\, Dominican Republic
END:VEVENT
BEGIN:VEVENT
DTSTART;VALUE=DATE:20221129
DTEND;VALUE=DATE:20221130
DTSTAMP:20260424T033413
CREATED:20221111T125704Z
LAST-MODIFIED:20221111T125704Z
UID:1159-1669680000-1669766399@dev.delasallesantiago.edu.do
SUMMARY:Taller #3 de liderazgo Dirigido a los Consejos de Cursos\, ADEL y dirigentes de Clubes
DESCRIPTION:Dpto. de Orientación
URL:https://dev.delasallesantiago.edu.do/event/taller-3-de-liderazgo-dirigido-a-los-consejos-de-cursos-adel-y-dirigentes-de-clubes/
LOCATION:Colegio De La Salle\, Santiago\, F855+443\, Av. Juan Pablo Duarte 88\, Santiago De Los Caballeros\, 51000\, Dominican Republic
END:VEVENT
BEGIN:VEVENT
DTSTART;VALUE=DATE:20221129
DTEND;VALUE=DATE:20221130
DTSTAMP:20260424T033413
CREATED:20221025T124102Z
LAST-MODIFIED:20221025T124102Z
UID:1123-1669680000-1669766399@dev.delasallesantiago.edu.do
SUMMARY:Examen y Certificación del TOEFL del 1er grupo
DESCRIPTION:Dpto. de Inglés
URL:https://dev.delasallesantiago.edu.do/event/examen-y-certificacion-del-toefl-del-1er-grupo/
LOCATION:Colegio De La Salle\, Santiago\, F855+443\, Av. Juan Pablo Duarte 88\, Santiago De Los Caballeros\, 51000\, Dominican Republic
END:VEVENT
BEGIN:VEVENT
DTSTART;VALUE=DATE:20221129
DTEND;VALUE=DATE:20221130
DTSTAMP:20260424T033413
CREATED:20221025T124009Z
LAST-MODIFIED:20221025T124009Z
UID:1121-1669680000-1669766399@dev.delasallesantiago.edu.do
SUMMARY:Inicio de Preparación del TOEFL (2do grupo)
DESCRIPTION:Dpto. de Inglés
URL:https://dev.delasallesantiago.edu.do/event/inicio-de-preparacion-del-toefl-2do-grupo/
LOCATION:Colegio De La Salle\, Santiago\, F855+443\, Av. Juan Pablo Duarte 88\, Santiago De Los Caballeros\, 51000\, Dominican Republic
END:VEVENT
BEGIN:VEVENT
DTSTART;VALUE=DATE:20221128
DTEND;VALUE=DATE:20221129
DTSTAMP:20260424T033413
CREATED:20221025T123711Z
LAST-MODIFIED:20221025T123711Z
UID:1119-1669593600-1669679999@dev.delasallesantiago.edu.do
SUMMARY:No docencia\, acondicionamiento después del Dia Familiar
DESCRIPTION:
URL:https://dev.delasallesantiago.edu.do/event/no-docencia-acondicionamiento-despues-del-dia-familiar/
LOCATION:Colegio De La Salle\, Santiago\, F855+443\, Av. Juan Pablo Duarte 88\, Santiago De Los Caballeros\, 51000\, Dominican Republic
END:VEVENT
BEGIN:VEVENT
DTSTART;VALUE=DATE:20221127
DTEND;VALUE=DATE:20221128
DTSTAMP:20260424T033413
CREATED:20221025T122342Z
LAST-MODIFIED:20221025T122342Z
UID:1115-1669507200-1669593599@dev.delasallesantiago.edu.do
SUMMARY:Día Familiar Lasallista
DESCRIPTION:
URL:https://dev.delasallesantiago.edu.do/event/dia-familiar-lasallista/
LOCATION:Colegio De La Salle\, Santiago\, F855+443\, Av. Juan Pablo Duarte 88\, Santiago De Los Caballeros\, 51000\, Dominican Republic
END:VEVENT
BEGIN:VEVENT
DTSTART;VALUE=DATE:20221125
DTEND;VALUE=DATE:20221126
DTSTAMP:20260424T033413
CREATED:20221111T125347Z
LAST-MODIFIED:20221111T125347Z
UID:1157-1669334400-1669420799@dev.delasallesantiago.edu.do
SUMMARY:Convivencia 3ro de Primaria
DESCRIPTION:Dpto. de Pastoral
URL:https://dev.delasallesantiago.edu.do/event/convivencia-3ro-de-primaria-2/
LOCATION:Colegio De La Salle\, Santiago\, F855+443\, Av. Juan Pablo Duarte 88\, Santiago De Los Caballeros\, 51000\, Dominican Republic
END:VEVENT
BEGIN:VEVENT
DTSTART;VALUE=DATE:20221124
DTEND;VALUE=DATE:20221125
DTSTAMP:20260424T033413
CREATED:20221025T121800Z
LAST-MODIFIED:20221025T121800Z
UID:1113-1669248000-1669334399@dev.delasallesantiago.edu.do
SUMMARY:Olimpiadas de Matemática 1ra. etapa
DESCRIPTION:MINERD
URL:https://dev.delasallesantiago.edu.do/event/olimpiadas-de-matematica-1ra-etapa/
LOCATION:Colegio De La Salle\, Santiago\, F855+443\, Av. Juan Pablo Duarte 88\, Santiago De Los Caballeros\, 51000\, Dominican Republic
END:VEVENT
BEGIN:VEVENT
DTSTART;TZID=UTC:20221122T190000
DTEND;TZID=UTC:20221122T210000
DTSTAMP:20260424T033413
CREATED:20221025T121614Z
LAST-MODIFIED:20221025T121614Z
UID:1111-1669143600-1669150800@dev.delasallesantiago.edu.do
SUMMARY:Escuela de Padres y Madres
DESCRIPTION:Taller de 4 días: “Conviviendo en Armonía” 3/4 \nFamilias de Preprimario\, Primaria I y II – de 7:00 pm a 8:45 pm \nDpto. de Orientación
URL:https://dev.delasallesantiago.edu.do/event/escuela-de-padres-y-madres-3/
LOCATION:Colegio De La Salle\, Santiago\, F855+443\, Av. Juan Pablo Duarte 88\, Santiago De Los Caballeros\, 51000\, Dominican Republic
END:VEVENT
BEGIN:VEVENT
DTSTART;VALUE=DATE:20221122
DTEND;VALUE=DATE:20221123
DTSTAMP:20260424T033413
CREATED:20221111T125206Z
LAST-MODIFIED:20221111T125206Z
UID:1155-1669075200-1669161599@dev.delasallesantiago.edu.do
SUMMARY:Cierre Muestra abierta y premiación de los cortometrajes de los estudiantes
DESCRIPTION:Dpto. de Arte
URL:https://dev.delasallesantiago.edu.do/event/cierre-muestra-abierta-y-premiacion-de-los-cortometrajes-de-los-estudiantes/
LOCATION:Colegio De La Salle\, Santiago\, F855+443\, Av. Juan Pablo Duarte 88\, Santiago De Los Caballeros\, 51000\, Dominican Republic
END:VEVENT
BEGIN:VEVENT
DTSTART;VALUE=DATE:20221121
DTEND;VALUE=DATE:20221126
DTSTAMP:20260424T033413
CREATED:20221024T183030Z
LAST-MODIFIED:20221024T183030Z
UID:1109-1668988800-1669420799@dev.delasallesantiago.edu.do
SUMMARY:Aplicación Pruebas Especiales
DESCRIPTION:Secundaria II
URL:https://dev.delasallesantiago.edu.do/event/aplicacion-pruebas-especiales/
LOCATION:Colegio De La Salle\, Santiago\, F855+443\, Av. Juan Pablo Duarte 88\, Santiago De Los Caballeros\, 51000\, Dominican Republic
END:VEVENT
BEGIN:VEVENT
DTSTART;VALUE=DATE:20221119
DTEND;VALUE=DATE:20221120
DTSTAMP:20260424T033413
CREATED:20221111T124919Z
LAST-MODIFIED:20221111T124919Z
UID:1153-1668816000-1668902399@dev.delasallesantiago.edu.do
SUMMARY:Asamblea Prejuvenil
DESCRIPTION:Dpto. de Pastoral
URL:https://dev.delasallesantiago.edu.do/event/asamblea-prejuvenil/
LOCATION:Colegio De La Salle\, Santiago\, F855+443\, Av. Juan Pablo Duarte 88\, Santiago De Los Caballeros\, 51000\, Dominican Republic
END:VEVENT
BEGIN:VEVENT
DTSTART;VALUE=DATE:20221118
DTEND;VALUE=DATE:20221119
DTSTAMP:20260424T033413
CREATED:20221024T182756Z
LAST-MODIFIED:20221024T182756Z
UID:1107-1668729600-1668815999@dev.delasallesantiago.edu.do
SUMMARY:Feria universitaria en las instalaciones del Colegio
DESCRIPTION:Dpto. de Orientación
URL:https://dev.delasallesantiago.edu.do/event/feria-universitaria-en-las-instalaciones-del-colegio/
LOCATION:Colegio De La Salle\, Santiago\, F855+443\, Av. Juan Pablo Duarte 88\, Santiago De Los Caballeros\, 51000\, Dominican Republic
END:VEVENT
BEGIN:VEVENT
DTSTART;VALUE=DATE:20221117
DTEND;VALUE=DATE:20221119
DTSTAMP:20260424T033413
CREATED:20221111T124813Z
LAST-MODIFIED:20221111T124813Z
UID:1151-1668643200-1668815999@dev.delasallesantiago.edu.do
SUMMARY:Taller 1 La Llamada
DESCRIPTION:Dpto. de Pastoral
URL:https://dev.delasallesantiago.edu.do/event/taller-1-la-llamada/
LOCATION:Colegio De La Salle\, Santiago\, F855+443\, Av. Juan Pablo Duarte 88\, Santiago De Los Caballeros\, 51000\, Dominican Republic
END:VEVENT
BEGIN:VEVENT
DTSTART;VALUE=DATE:20221117
DTEND;VALUE=DATE:20221118
DTSTAMP:20260424T033413
CREATED:20221111T124718Z
LAST-MODIFIED:20221111T124718Z
UID:1149-1668643200-1668729599@dev.delasallesantiago.edu.do
SUMMARY:Misa Secundaria I y II
DESCRIPTION:Dpto. de Pastoral
URL:https://dev.delasallesantiago.edu.do/event/misa-secundaria-i-y-ii/
LOCATION:Colegio De La Salle\, Santiago\, F855+443\, Av. Juan Pablo Duarte 88\, Santiago De Los Caballeros\, 51000\, Dominican Republic
END:VEVENT
BEGIN:VEVENT
DTSTART;TZID=UTC:20221116T190000
DTEND;TZID=UTC:20221116T210000
DTSTAMP:20260424T033413
CREATED:20221024T181124Z
LAST-MODIFIED:20221024T181124Z
UID:1103-1668625200-1668632400@dev.delasallesantiago.edu.do
SUMMARY:Escuela de Padres y Madres
DESCRIPTION:Taller de 4 días: “Conviviendo en Armonía” 2/4 \nFamilias de Preprimario\, Primaria I y II – de 7:00 pm a 8:45 pm \nDpto. de Orientación
URL:https://dev.delasallesantiago.edu.do/event/escuela-de-padres-y-madres-2/
LOCATION:Colegio De La Salle\, Santiago\, F855+443\, Av. Juan Pablo Duarte 88\, Santiago De Los Caballeros\, 51000\, Dominican Republic
END:VEVENT
BEGIN:VEVENT
DTSTART;VALUE=DATE:20221116
DTEND;VALUE=DATE:20221117
DTSTAMP:20260424T033413
CREATED:20221024T181308Z
LAST-MODIFIED:20221024T182612Z
UID:1105-1668556800-1668643199@dev.delasallesantiago.edu.do
SUMMARY:Comilona 4to grado
DESCRIPTION:Primaria II
URL:https://dev.delasallesantiago.edu.do/event/comilona-4to-grado/
LOCATION:Colegio De La Salle\, Santiago\, F855+443\, Av. Juan Pablo Duarte 88\, Santiago De Los Caballeros\, 51000\, Dominican Republic
END:VEVENT
BEGIN:VEVENT
DTSTART;VALUE=DATE:20221115
DTEND;VALUE=DATE:20221119
DTSTAMP:20260424T033413
CREATED:20221024T172306Z
LAST-MODIFIED:20221024T172306Z
UID:1101-1668470400-1668815999@dev.delasallesantiago.edu.do
SUMMARY:3ra. Convocatoria Pruebas Nacionales
DESCRIPTION:MINERD
URL:https://dev.delasallesantiago.edu.do/event/3ra-convocatoria-pruebas-nacionales/
LOCATION:Colegio De La Salle\, Santiago\, F855+443\, Av. Juan Pablo Duarte 88\, Santiago De Los Caballeros\, 51000\, Dominican Republic
END:VEVENT
BEGIN:VEVENT
DTSTART;VALUE=DATE:20221115
DTEND;VALUE=DATE:20221116
DTSTAMP:20260424T033413
CREATED:20221024T172003Z
LAST-MODIFIED:20221024T172003Z
UID:1099-1668470400-1668556799@dev.delasallesantiago.edu.do
SUMMARY:Convivencia 3ro de Primaria
DESCRIPTION:Dpto. de Pastoral
URL:https://dev.delasallesantiago.edu.do/event/convivencia-3ro-de-primaria/
LOCATION:Colegio De La Salle\, Santiago\, F855+443\, Av. Juan Pablo Duarte 88\, Santiago De Los Caballeros\, 51000\, Dominican Republic
END:VEVENT
BEGIN:VEVENT
DTSTART;VALUE=DATE:20221114
DTEND;VALUE=DATE:20221115
DTSTAMP:20260424T033413
CREATED:20221024T171848Z
LAST-MODIFIED:20221024T171848Z
UID:1097-1668384000-1668470399@dev.delasallesantiago.edu.do
SUMMARY:Feria internacional universitaria (visita)
DESCRIPTION:Estudiantes de 6to Secundaria II \nDpto. de Orientación
URL:https://dev.delasallesantiago.edu.do/event/feria-internacional-universitaria-visita/
LOCATION:Colegio De La Salle\, Santiago\, F855+443\, Av. Juan Pablo Duarte 88\, Santiago De Los Caballeros\, 51000\, Dominican Republic
END:VEVENT
BEGIN:VEVENT
DTSTART;VALUE=DATE:20221111
DTEND;VALUE=DATE:20221112
DTSTAMP:20260424T033413
CREATED:20221024T170846Z
LAST-MODIFIED:20221024T170846Z
UID:1094-1668124800-1668211199@dev.delasallesantiago.edu.do
SUMMARY:Convivencia 3ro. de Secundaria I
DESCRIPTION:Dpto. de Pastoral
URL:https://dev.delasallesantiago.edu.do/event/convivencia-3ro-de-secundaria-i/
LOCATION:Colegio De La Salle\, Santiago\, F855+443\, Av. Juan Pablo Duarte 88\, Santiago De Los Caballeros\, 51000\, Dominican Republic
END:VEVENT
BEGIN:VEVENT
DTSTART;VALUE=DATE:20221109
DTEND;VALUE=DATE:20221110
DTSTAMP:20260424T033413
CREATED:20221024T170257Z
LAST-MODIFIED:20221024T170257Z
UID:1092-1667952000-1668038399@dev.delasallesantiago.edu.do
SUMMARY:Comilona 3ro grado
DESCRIPTION:Primaria II
URL:https://dev.delasallesantiago.edu.do/event/comilona-3ro-grado/
LOCATION:Colegio De La Salle\, Santiago\, F855+443\, Av. Juan Pablo Duarte 88\, Santiago De Los Caballeros\, 51000\, Dominican Republic
END:VEVENT
BEGIN:VEVENT
DTSTART;TZID=UTC:20221108T190000
DTEND;TZID=UTC:20221108T210000
DTSTAMP:20260424T033413
CREATED:20221024T133150Z
LAST-MODIFIED:20221024T133150Z
UID:1090-1667934000-1667941200@dev.delasallesantiago.edu.do
SUMMARY:Escuela de Padres y Madres
DESCRIPTION:Taller de 4 días: “Conviviendo en Armonía” 1/4 \nFamilias de Preprimaria\, Primaria I y II – de 7:00 pm a 8:45 pm \nDpto. de Orientación
URL:https://dev.delasallesantiago.edu.do/event/escuela-de-padres-y-madres/
LOCATION:Colegio De La Salle\, Santiago\, F855+443\, Av. Juan Pablo Duarte 88\, Santiago De Los Caballeros\, 51000\, Dominican Republic
END:VEVENT
BEGIN:VEVENT
DTSTART;VALUE=DATE:20221107
DTEND;VALUE=DATE:20221108
DTSTAMP:20260424T033413
CREATED:20221024T132650Z
LAST-MODIFIED:20221024T132650Z
UID:1088-1667779200-1667865599@dev.delasallesantiago.edu.do
SUMMARY:Día del Deporte (celebraiones y actividades) - Todos los Ciclos
DESCRIPTION:Dpto. de Deportes
URL:https://dev.delasallesantiago.edu.do/event/dia-del-deporte-celebraiones-y-actividades-todos-los-ciclos/
LOCATION:Colegio De La Salle\, Santiago\, F855+443\, Av. Juan Pablo Duarte 88\, Santiago De Los Caballeros\, 51000\, Dominican Republic
END:VEVENT
BEGIN:VEVENT
DTSTART;VALUE=DATE:20221104
DTEND;VALUE=DATE:20221105
DTSTAMP:20260424T033413
CREATED:20221024T132131Z
LAST-MODIFIED:20221024T132131Z
UID:1086-1667520000-1667606399@dev.delasallesantiago.edu.do
SUMMARY:Convivencia 2do. de Secundaria I
DESCRIPTION:Dpto. de Pastoral
URL:https://dev.delasallesantiago.edu.do/event/convivencia-2do-de-secundaria-i/
LOCATION:Colegio De La Salle\, Santiago\, F855+443\, Av. Juan Pablo Duarte 88\, Santiago De Los Caballeros\, 51000\, Dominican Republic
END:VEVENT
BEGIN:VEVENT
DTSTART;TZID=UTC:20221103T080000
DTEND;TZID=UTC:20221103T090000
DTSTAMP:20260424T033413
CREATED:20221031T125235Z
LAST-MODIFIED:20221031T125235Z
UID:1137-1667462400-1667466000@dev.delasallesantiago.edu.do
SUMMARY:Cuenta cuentos para primaria
DESCRIPTION:
URL:https://dev.delasallesantiago.edu.do/event/cuenta-cuentos-para-primaria/
LOCATION:Colegio De La Salle\, Santiago\, F855+443\, Av. Juan Pablo Duarte 88\, Santiago De Los Caballeros\, 51000\, Dominican Republic
END:VEVENT
BEGIN:VEVENT
DTSTART;VALUE=DATE:20221031
DTEND;VALUE=DATE:20221101
DTSTAMP:20260424T033413
CREATED:20220927T181956Z
LAST-MODIFIED:20220927T181956Z
UID:1058-1667174400-1667260799@dev.delasallesantiago.edu.do
SUMMARY:Claustro General (Clases asíncronas)
DESCRIPTION:Dirección General
URL:https://dev.delasallesantiago.edu.do/event/claustro-general-clases-asincronas/
LOCATION:Colegio De La Salle\, Santiago\, F855+443\, Av. Juan Pablo Duarte 88\, Santiago De Los Caballeros\, 51000\, Dominican Republic
END:VEVENT
BEGIN:VEVENT
DTSTART;VALUE=DATE:20221026
DTEND;VALUE=DATE:20221029
DTSTAMP:20260424T033413
CREATED:20220927T181821Z
LAST-MODIFIED:20220927T181821Z
UID:1056-1666742400-1667001599@dev.delasallesantiago.edu.do
SUMMARY:Modelo Lasallista de la ONU
DESCRIPTION:Dpto. Ciencias Sociales
URL:https://dev.delasallesantiago.edu.do/event/modelo-lasallista-de-la-onu/
LOCATION:Colegio De La Salle\, Santiago\, F855+443\, Av. Juan Pablo Duarte 88\, Santiago De Los Caballeros\, 51000\, Dominican Republic
END:VEVENT
BEGIN:VEVENT
DTSTART;VALUE=DATE:20221025
DTEND;VALUE=DATE:20221026
DTSTAMP:20260424T033413
CREATED:20220927T181551Z
LAST-MODIFIED:20220927T181551Z
UID:1054-1666656000-1666742399@dev.delasallesantiago.edu.do
SUMMARY:1ra. Entrega notas a las familias (Primer Periodo)
DESCRIPTION:Primaria II\, Secundaria I y II
URL:https://dev.delasallesantiago.edu.do/event/1ra-entrega-notas-a-las-familias-primer-periodo/
LOCATION:Colegio De La Salle\, Santiago\, F855+443\, Av. Juan Pablo Duarte 88\, Santiago De Los Caballeros\, 51000\, Dominican Republic
END:VEVENT
END:VCALENDAR