BEGIN:VCALENDAR
VERSION:2.0
PRODID:-//Colegio De La Salle, Santiago - ECPv6.15.20//NONSGML v1.0//EN
CALSCALE:GREGORIAN
METHOD:PUBLISH
X-ORIGINAL-URL:https://dev.delasallesantiago.edu.do
X-WR-CALDESC:Eventos para Colegio De La Salle, Santiago
REFRESH-INTERVAL;VALUE=DURATION:PT1H
X-Robots-Tag:noindex
X-PUBLISHED-TTL:PT1H
BEGIN:VTIMEZONE
TZID:UTC
BEGIN:STANDARD
TZOFFSETFROM:+0000
TZOFFSETTO:+0000
TZNAME:UTC
DTSTART:20210101T000000
END:STANDARD
END:VTIMEZONE
BEGIN:VEVENT
DTSTART;VALUE=DATE:20230304
DTEND;VALUE=DATE:20230305
DTSTAMP:20260424T000814
CREATED:20230302T182445Z
LAST-MODIFIED:20230302T182445Z
UID:1244-1677888000-1677974399@dev.delasallesantiago.edu.do
SUMMARY:Olimpiadas Dominicana de Informática (Primera Convocatoria) (Online) - Sociedad Dominicana de Computación (SODOCO)
DESCRIPTION:Dpto. de Informática
URL:https://dev.delasallesantiago.edu.do/event/olimpiadas-dominicana-de-informatica-primera-convocatoria-online-sociedad-dominicana-de-computacion-sodoco/
LOCATION:Colegio De La Salle\, Santiago\, F855+443\, Av. Juan Pablo Duarte 88\, Santiago De Los Caballeros\, 51000\, Dominican Republic
END:VEVENT
BEGIN:VEVENT
DTSTART;VALUE=DATE:20230303
DTEND;VALUE=DATE:20230305
DTSTAMP:20260424T000814
CREATED:20230302T152834Z
LAST-MODIFIED:20230303T175332Z
UID:1242-1677801600-1677974399@dev.delasallesantiago.edu.do
SUMMARY:Excursión al Este (4to Secundaria)
DESCRIPTION:Secundaria II
URL:https://dev.delasallesantiago.edu.do/event/excursion-al-este-cuarto/
LOCATION:Colegio De La Salle\, Santiago\, F855+443\, Av. Juan Pablo Duarte 88\, Santiago De Los Caballeros\, 51000\, Dominican Republic
END:VEVENT
BEGIN:VEVENT
DTSTART;VALUE=DATE:20230302
DTEND;VALUE=DATE:20230304
DTSTAMP:20260424T000814
CREATED:20230302T151954Z
LAST-MODIFIED:20230302T151954Z
UID:1240-1677715200-1677887999@dev.delasallesantiago.edu.do
SUMMARY:Olimpiada Nacional de Lectura y Escritura (Segunda Etapa)
DESCRIPTION:MINERD
URL:https://dev.delasallesantiago.edu.do/event/olimpiada-nacional-de-lectura-y-escritura-segunda-etapa/
LOCATION:Colegio De La Salle\, Santiago\, F855+443\, Av. Juan Pablo Duarte 88\, Santiago De Los Caballeros\, 51000\, Dominican Republic
END:VEVENT
BEGIN:VEVENT
DTSTART;VALUE=DATE:20230227
DTEND;VALUE=DATE:20230228
DTSTAMP:20260424T000814
CREATED:20230207T131037Z
LAST-MODIFIED:20230207T131037Z
UID:1234-1677456000-1677542399@dev.delasallesantiago.edu.do
SUMMARY:Día De La Independencia Nacional
DESCRIPTION:
URL:https://dev.delasallesantiago.edu.do/event/dia-de-la-independencia-nacional/
LOCATION:Colegio De La Salle\, Santiago\, F855+443\, Av. Juan Pablo Duarte 88\, Santiago De Los Caballeros\, 51000\, Dominican Republic
END:VEVENT
BEGIN:VEVENT
DTSTART;VALUE=DATE:20230224
DTEND;VALUE=DATE:20230225
DTSTAMP:20260424T000814
CREATED:20230207T130841Z
LAST-MODIFIED:20230207T131340Z
UID:1232-1677196800-1677283199@dev.delasallesantiago.edu.do
SUMMARY:Acto Solemne A La Bandera Nacional
DESCRIPTION:
URL:https://dev.delasallesantiago.edu.do/event/acto-solemne-a-la-bandera-nacional/
LOCATION:Colegio De La Salle\, Santiago\, F855+443\, Av. Juan Pablo Duarte 88\, Santiago De Los Caballeros\, 51000\, Dominican Republic
END:VEVENT
BEGIN:VEVENT
DTSTART;VALUE=DATE:20230223
DTEND;VALUE=DATE:20230224
DTSTAMP:20260424T000814
CREATED:20230207T130732Z
LAST-MODIFIED:20230207T130732Z
UID:1230-1677110400-1677196799@dev.delasallesantiago.edu.do
SUMMARY:Olimpiadas Distritales de Matemáticas (Segunda Etapa)
DESCRIPTION:MINERD
URL:https://dev.delasallesantiago.edu.do/event/olimpiadas-distritales-de-matematicas-segunda-etapa/
LOCATION:Colegio De La Salle\, Santiago\, F855+443\, Av. Juan Pablo Duarte 88\, Santiago De Los Caballeros\, 51000\, Dominican Republic
END:VEVENT
BEGIN:VEVENT
DTSTART;VALUE=DATE:20230222
DTEND;VALUE=DATE:20230223
DTSTAMP:20260424T000814
CREATED:20230207T130609Z
LAST-MODIFIED:20230207T130609Z
UID:1228-1677024000-1677110399@dev.delasallesantiago.edu.do
SUMMARY:Olimpiadas de Ciencias de la Naturaleza Nivel Primario
DESCRIPTION:MINERD
URL:https://dev.delasallesantiago.edu.do/event/olimpiadas-de-ciencias-de-la-naturaleza-nivel-primario/
LOCATION:Colegio De La Salle\, Santiago\, F855+443\, Av. Juan Pablo Duarte 88\, Santiago De Los Caballeros\, 51000\, Dominican Republic
END:VEVENT
BEGIN:VEVENT
DTSTART;VALUE=DATE:20230222
DTEND;VALUE=DATE:20230223
DTSTAMP:20260424T000814
CREATED:20230207T130452Z
LAST-MODIFIED:20230207T130452Z
UID:1226-1677024000-1677110399@dev.delasallesantiago.edu.do
SUMMARY:Miércoles de Ceniza / Inicio de la Cuaresma
DESCRIPTION:Dpto. de Pastoral
URL:https://dev.delasallesantiago.edu.do/event/miercoles-de-ceniza-inicio-de-la-cuaresma/
LOCATION:Colegio De La Salle\, Santiago\, F855+443\, Av. Juan Pablo Duarte 88\, Santiago De Los Caballeros\, 51000\, Dominican Republic
END:VEVENT
BEGIN:VEVENT
DTSTART;VALUE=DATE:20230220
DTEND;VALUE=DATE:20230221
DTSTAMP:20260424T000814
CREATED:20230207T130343Z
LAST-MODIFIED:20230207T130343Z
UID:1224-1676851200-1676937599@dev.delasallesantiago.edu.do
SUMMARY:Inició preparación del TOEFL (4to grupo)
DESCRIPTION:Dpto. de Inglés
URL:https://dev.delasallesantiago.edu.do/event/inicio-preparacion-del-toefl-4to-grupo/
LOCATION:Colegio De La Salle\, Santiago\, F855+443\, Av. Juan Pablo Duarte 88\, Santiago De Los Caballeros\, 51000\, Dominican Republic
END:VEVENT
BEGIN:VEVENT
DTSTART;VALUE=DATE:20230217
DTEND;VALUE=DATE:20230218
DTSTAMP:20260424T000814
CREATED:20230206T181521Z
LAST-MODIFIED:20230206T181521Z
UID:1219-1676592000-1676678399@dev.delasallesantiago.edu.do
SUMMARY:Celebracion Del Dia Del Estudiante
DESCRIPTION:Premiaciones (Todos los Niveles) \nOlimpiadas de Matemática y Naturales \nConcurso de Ortografía \n  \nDptos. de Matemática\, Español y Naturales
URL:https://dev.delasallesantiago.edu.do/event/celebracion-del-dia-del-estudiante/
LOCATION:Colegio De La Salle\, Santiago\, F855+443\, Av. Juan Pablo Duarte 88\, Santiago De Los Caballeros\, 51000\, Dominican Republic
END:VEVENT
BEGIN:VEVENT
DTSTART;VALUE=DATE:20230216
DTEND;VALUE=DATE:20230217
DTSTAMP:20260424T000814
CREATED:20230207T130150Z
LAST-MODIFIED:20230207T130150Z
UID:1222-1676505600-1676591999@dev.delasallesantiago.edu.do
SUMMARY:Convivencia 6to Primaria
DESCRIPTION:Dpto. de Pastoral
URL:https://dev.delasallesantiago.edu.do/event/convivencia-6to-primaria/
LOCATION:Colegio De La Salle\, Santiago\, F855+443\, Av. Juan Pablo Duarte 88\, Santiago De Los Caballeros\, 51000\, Dominican Republic
END:VEVENT
BEGIN:VEVENT
DTSTART;VALUE=DATE:20230215
DTEND;VALUE=DATE:20230218
DTSTAMP:20260424T000814
CREATED:20230206T181140Z
LAST-MODIFIED:20230206T181140Z
UID:1217-1676419200-1676678399@dev.delasallesantiago.edu.do
SUMMARY:Olimpiada Nacional de Ciencias Naturales (Primera Etapa)
DESCRIPTION:MINERD
URL:https://dev.delasallesantiago.edu.do/event/olimpiada-nacional-de-ciencias-naturales-primera-etapa/
LOCATION:Colegio De La Salle\, Santiago\, F855+443\, Av. Juan Pablo Duarte 88\, Santiago De Los Caballeros\, 51000\, Dominican Republic
END:VEVENT
BEGIN:VEVENT
DTSTART;VALUE=DATE:20230211
DTEND;VALUE=DATE:20230212
DTSTAMP:20260424T000814
CREATED:20230206T180907Z
LAST-MODIFIED:20230206T180907Z
UID:1215-1676073600-1676159999@dev.delasallesantiago.edu.do
SUMMARY:Taller de Lideres (Escuela Santo Hno. Miguel)
DESCRIPTION:Dpto. de Pastoral
URL:https://dev.delasallesantiago.edu.do/event/taller-de-lideres-escuela-santo-hno-miguel/
LOCATION:Colegio De La Salle\, Santiago\, F855+443\, Av. Juan Pablo Duarte 88\, Santiago De Los Caballeros\, 51000\, Dominican Republic
END:VEVENT
BEGIN:VEVENT
DTSTART;VALUE=DATE:20230209
DTEND;VALUE=DATE:20230210
DTSTAMP:20260424T000814
CREATED:20230206T180649Z
LAST-MODIFIED:20230206T180649Z
UID:1213-1675900800-1675987199@dev.delasallesantiago.edu.do
SUMMARY:Convivencia 4to Primaria
DESCRIPTION:Dpto. de Pastoral
URL:https://dev.delasallesantiago.edu.do/event/convivencia-4to-primaria/
LOCATION:Colegio De La Salle\, Santiago\, F855+443\, Av. Juan Pablo Duarte 88\, Santiago De Los Caballeros\, 51000\, Dominican Republic
END:VEVENT
BEGIN:VEVENT
DTSTART;VALUE=DATE:20221216
DTEND;VALUE=DATE:20221217
DTSTAMP:20260424T000814
CREATED:20221129T132804Z
LAST-MODIFIED:20221207T124025Z
UID:1182-1671148800-1671235199@dev.delasallesantiago.edu.do
SUMMARY:Escuela Abierta para Nivel Inicial. (No Docencia)
DESCRIPTION:Inicial\, Primaria I y II y Secundaria I y II. \nEMPIEZA LAS VACACIONES DE NAVIDAD:\ndel 16 de diciembre 2022 al 9 de enero 2023
URL:https://dev.delasallesantiago.edu.do/event/escuela-abierta/
LOCATION:Colegio De La Salle\, Santiago\, F855+443\, Av. Juan Pablo Duarte 88\, Santiago De Los Caballeros\, 51000\, Dominican Republic
END:VEVENT
BEGIN:VEVENT
DTSTART;VALUE=DATE:20221215
DTEND;VALUE=DATE:20221216
DTSTAMP:20260424T000814
CREATED:20221129T132552Z
LAST-MODIFIED:20221129T132552Z
UID:1180-1671062400-1671148799@dev.delasallesantiago.edu.do
SUMMARY:Encuentro navideño(Despedida)
DESCRIPTION:Todos los Ciclos
URL:https://dev.delasallesantiago.edu.do/event/encuentro-navidenodespedida/
LOCATION:Colegio De La Salle\, Santiago\, F855+443\, Av. Juan Pablo Duarte 88\, Santiago De Los Caballeros\, 51000\, Dominican Republic
END:VEVENT
BEGIN:VEVENT
DTSTART;VALUE=DATE:20221215
DTEND;VALUE=DATE:20221216
DTSTAMP:20260424T000814
CREATED:20221129T132437Z
LAST-MODIFIED:20221129T132437Z
UID:1178-1671062400-1671148799@dev.delasallesantiago.edu.do
SUMMARY:Mañana Navideña – Show de talentos
DESCRIPTION:Dpto. de Arte
URL:https://dev.delasallesantiago.edu.do/event/manana-navidena-show-de-talentos/
LOCATION:Colegio De La Salle\, Santiago\, F855+443\, Av. Juan Pablo Duarte 88\, Santiago De Los Caballeros\, 51000\, Dominican Republic
END:VEVENT
BEGIN:VEVENT
DTSTART;VALUE=DATE:20221214
DTEND;VALUE=DATE:20221215
DTSTAMP:20260424T000814
CREATED:20221129T132336Z
LAST-MODIFIED:20221129T132336Z
UID:1176-1670976000-1671062399@dev.delasallesantiago.edu.do
SUMMARY:Cierre de evaluación de procesos
DESCRIPTION:Todos los Ciclos
URL:https://dev.delasallesantiago.edu.do/event/cierre-de-evaluacion-de-procesos/
LOCATION:Colegio De La Salle\, Santiago\, F855+443\, Av. Juan Pablo Duarte 88\, Santiago De Los Caballeros\, 51000\, Dominican Republic
END:VEVENT
BEGIN:VEVENT
DTSTART;VALUE=DATE:20221213
DTEND;VALUE=DATE:20221214
DTSTAMP:20260424T000814
CREATED:20221129T132118Z
LAST-MODIFIED:20221129T132118Z
UID:1174-1670889600-1670975999@dev.delasallesantiago.edu.do
SUMMARY:Compartir cierre de periodo programa de liderazgo dirigido a los Consejos de Cursos\, ADEL y dirigentes de Clubes
DESCRIPTION:Dpto. de Orientación
URL:https://dev.delasallesantiago.edu.do/event/compartir-cierre-de-periodo-programa-de-liderazgo-dirigido-a-los-consejos-de-cursos-adel-y-dirigentes-de-clubes/
LOCATION:Colegio De La Salle\, Santiago\, F855+443\, Av. Juan Pablo Duarte 88\, Santiago De Los Caballeros\, 51000\, Dominican Republic
END:VEVENT
BEGIN:VEVENT
DTSTART;VALUE=DATE:20221209
DTEND;VALUE=DATE:20221210
DTSTAMP:20260424T000814
CREATED:20221129T131737Z
LAST-MODIFIED:20221129T131737Z
UID:1172-1670544000-1670630399@dev.delasallesantiago.edu.do
SUMMARY:Retiro de Adviento para todo el personal (NO DOCENCIA)
DESCRIPTION:Dpto. de Pastoral
URL:https://dev.delasallesantiago.edu.do/event/retiro-de-adviento-para-todo-el-personal-no-docencia/
LOCATION:Colegio De La Salle\, Santiago\, F855+443\, Av. Juan Pablo Duarte 88\, Santiago De Los Caballeros\, 51000\, Dominican Republic
END:VEVENT
BEGIN:VEVENT
DTSTART;VALUE=DATE:20221208
DTEND;VALUE=DATE:20221209
DTSTAMP:20260424T000814
CREATED:20221129T130815Z
LAST-MODIFIED:20221129T130815Z
UID:1170-1670457600-1670543999@dev.delasallesantiago.edu.do
SUMMARY:Celebración de la palabra\, Inicial y Primaria I
DESCRIPTION:Dpto. de Pastoral
URL:https://dev.delasallesantiago.edu.do/event/celebracion-de-la-palabra-inicial-y-primaria-i/
LOCATION:Colegio De La Salle\, Santiago\, F855+443\, Av. Juan Pablo Duarte 88\, Santiago De Los Caballeros\, 51000\, Dominican Republic
END:VEVENT
BEGIN:VEVENT
DTSTART;VALUE=DATE:20221205
DTEND;VALUE=DATE:20221206
DTSTAMP:20260424T000814
CREATED:20221129T125246Z
LAST-MODIFIED:20221129T125246Z
UID:1168-1670198400-1670284799@dev.delasallesantiago.edu.do
SUMMARY:Comilona (6to Grado)
DESCRIPTION:Primaria II
URL:https://dev.delasallesantiago.edu.do/event/comilona-6to-grado/
LOCATION:Colegio De La Salle\, Santiago\, F855+443\, Av. Juan Pablo Duarte 88\, Santiago De Los Caballeros\, 51000\, Dominican Republic
END:VEVENT
BEGIN:VEVENT
DTSTART;VALUE=DATE:20221202
DTEND;VALUE=DATE:20221203
DTSTAMP:20260424T000814
CREATED:20221129T123958Z
LAST-MODIFIED:20221129T154655Z
UID:1162-1669939200-1670025599@dev.delasallesantiago.edu.do
SUMMARY:Claustro General (Clases asíncronas)
DESCRIPTION:Dirección General
URL:https://dev.delasallesantiago.edu.do/event/claustro-general-clases-asincronas-2/
LOCATION:Colegio De La Salle\, Santiago\, F855+443\, Av. Juan Pablo Duarte 88\, Santiago De Los Caballeros\, 51000\, Dominican Republic
END:VEVENT
BEGIN:VEVENT
DTSTART;VALUE=DATE:20221201
DTEND;VALUE=DATE:20221202
DTSTAMP:20260424T000814
CREATED:20221129T124505Z
LAST-MODIFIED:20221129T154723Z
UID:1165-1669852800-1669939199@dev.delasallesantiago.edu.do
SUMMARY:Retiro de Adviento para los alumnos (todos los Ciclos)
DESCRIPTION:Dpto. de Pastoral
URL:https://dev.delasallesantiago.edu.do/event/retiro-de-adviento-para-los-alumnos-todos-los-ciclos/
LOCATION:Colegio De La Salle\, Santiago\, F855+443\, Av. Juan Pablo Duarte 88\, Santiago De Los Caballeros\, 51000\, Dominican Republic
END:VEVENT
BEGIN:VEVENT
DTSTART;VALUE=DATE:20221130
DTEND;VALUE=DATE:20221201
DTSTAMP:20260424T000814
CREATED:20221025T125045Z
LAST-MODIFIED:20221025T125045Z
UID:1127-1669766400-1669852799@dev.delasallesantiago.edu.do
SUMMARY:Comilona 5to grado
DESCRIPTION:Primaria II
URL:https://dev.delasallesantiago.edu.do/event/comilona-5to-grado/
LOCATION:Colegio De La Salle\, Santiago\, F855+443\, Av. Juan Pablo Duarte 88\, Santiago De Los Caballeros\, 51000\, Dominican Republic
END:VEVENT
BEGIN:VEVENT
DTSTART;TZID=UTC:20221129T190000
DTEND;TZID=UTC:20221129T210000
DTSTAMP:20260424T000814
CREATED:20221025T124657Z
LAST-MODIFIED:20221025T124657Z
UID:1125-1669748400-1669755600@dev.delasallesantiago.edu.do
SUMMARY:Escuela de Padres y Madres
DESCRIPTION:Taller de 4 días: “Conviviendo en Armonía” 4/4 \nFamilias de Preprimario\, Primaria I y II – de 7:00 pm a 8:45 pm \nDpto. de Orientación
URL:https://dev.delasallesantiago.edu.do/event/escuela-de-padres-y-madres-4/
LOCATION:Colegio De La Salle\, Santiago\, F855+443\, Av. Juan Pablo Duarte 88\, Santiago De Los Caballeros\, 51000\, Dominican Republic
END:VEVENT
BEGIN:VEVENT
DTSTART;VALUE=DATE:20221129
DTEND;VALUE=DATE:20221130
DTSTAMP:20260424T000814
CREATED:20221111T125704Z
LAST-MODIFIED:20221111T125704Z
UID:1159-1669680000-1669766399@dev.delasallesantiago.edu.do
SUMMARY:Taller #3 de liderazgo Dirigido a los Consejos de Cursos\, ADEL y dirigentes de Clubes
DESCRIPTION:Dpto. de Orientación
URL:https://dev.delasallesantiago.edu.do/event/taller-3-de-liderazgo-dirigido-a-los-consejos-de-cursos-adel-y-dirigentes-de-clubes/
LOCATION:Colegio De La Salle\, Santiago\, F855+443\, Av. Juan Pablo Duarte 88\, Santiago De Los Caballeros\, 51000\, Dominican Republic
END:VEVENT
BEGIN:VEVENT
DTSTART;VALUE=DATE:20221129
DTEND;VALUE=DATE:20221130
DTSTAMP:20260424T000814
CREATED:20221025T124102Z
LAST-MODIFIED:20221025T124102Z
UID:1123-1669680000-1669766399@dev.delasallesantiago.edu.do
SUMMARY:Examen y Certificación del TOEFL del 1er grupo
DESCRIPTION:Dpto. de Inglés
URL:https://dev.delasallesantiago.edu.do/event/examen-y-certificacion-del-toefl-del-1er-grupo/
LOCATION:Colegio De La Salle\, Santiago\, F855+443\, Av. Juan Pablo Duarte 88\, Santiago De Los Caballeros\, 51000\, Dominican Republic
END:VEVENT
BEGIN:VEVENT
DTSTART;VALUE=DATE:20221129
DTEND;VALUE=DATE:20221130
DTSTAMP:20260424T000814
CREATED:20221025T124009Z
LAST-MODIFIED:20221025T124009Z
UID:1121-1669680000-1669766399@dev.delasallesantiago.edu.do
SUMMARY:Inicio de Preparación del TOEFL (2do grupo)
DESCRIPTION:Dpto. de Inglés
URL:https://dev.delasallesantiago.edu.do/event/inicio-de-preparacion-del-toefl-2do-grupo/
LOCATION:Colegio De La Salle\, Santiago\, F855+443\, Av. Juan Pablo Duarte 88\, Santiago De Los Caballeros\, 51000\, Dominican Republic
END:VEVENT
BEGIN:VEVENT
DTSTART;VALUE=DATE:20221128
DTEND;VALUE=DATE:20221129
DTSTAMP:20260424T000814
CREATED:20221025T123711Z
LAST-MODIFIED:20221025T123711Z
UID:1119-1669593600-1669679999@dev.delasallesantiago.edu.do
SUMMARY:No docencia\, acondicionamiento después del Dia Familiar
DESCRIPTION:
URL:https://dev.delasallesantiago.edu.do/event/no-docencia-acondicionamiento-despues-del-dia-familiar/
LOCATION:Colegio De La Salle\, Santiago\, F855+443\, Av. Juan Pablo Duarte 88\, Santiago De Los Caballeros\, 51000\, Dominican Republic
END:VEVENT
END:VCALENDAR