BEGIN:VCALENDAR
VERSION:2.0
PRODID:-//Colegio De La Salle, Santiago - ECPv6.15.20//NONSGML v1.0//EN
CALSCALE:GREGORIAN
METHOD:PUBLISH
X-WR-CALNAME:Colegio De La Salle, Santiago
X-ORIGINAL-URL:https://dev.delasallesantiago.edu.do
X-WR-CALDESC:Eventos para Colegio De La Salle, Santiago
REFRESH-INTERVAL;VALUE=DURATION:PT1H
X-Robots-Tag:noindex
X-PUBLISHED-TTL:PT1H
BEGIN:VTIMEZONE
TZID:UTC
BEGIN:STANDARD
TZOFFSETFROM:+0000
TZOFFSETTO:+0000
TZNAME:UTC
DTSTART:20220101T000000
END:STANDARD
END:VTIMEZONE
BEGIN:VEVENT
DTSTART;VALUE=DATE:20230513
DTEND;VALUE=DATE:20230514
DTSTAMP:20260423T172401
CREATED:20230419T132453Z
LAST-MODIFIED:20230419T132453Z
UID:1384-1683936000-1684022399@dev.delasallesantiago.edu.do
SUMMARY:Asamblea de Animadores
DESCRIPTION:Dpto. de Pastoral
URL:https://dev.delasallesantiago.edu.do/event/asamblea-de-animadores/
LOCATION:Colegio De La Salle\, Santiago\, F855+443\, Av. Juan Pablo Duarte 88\, Santiago De Los Caballeros\, 51000\, Dominican Republic
END:VEVENT
BEGIN:VEVENT
DTSTART;VALUE=DATE:20230512
DTEND;VALUE=DATE:20230513
DTSTAMP:20260423T172401
CREATED:20230419T131901Z
LAST-MODIFIED:20230419T131901Z
UID:1382-1683849600-1683935999@dev.delasallesantiago.edu.do
SUMMARY:Celebración Día de las Madres
DESCRIPTION:Inicial\, Primaria I y II
URL:https://dev.delasallesantiago.edu.do/event/celebracion-dia-de-las-madres/
LOCATION:Colegio De La Salle\, Santiago\, F855+443\, Av. Juan Pablo Duarte 88\, Santiago De Los Caballeros\, 51000\, Dominican Republic
END:VEVENT
BEGIN:VEVENT
DTSTART;VALUE=DATE:20230508
DTEND;VALUE=DATE:20230511
DTSTAMP:20260423T172401
CREATED:20230419T131353Z
LAST-MODIFIED:20230419T131353Z
UID:1380-1683504000-1683763199@dev.delasallesantiago.edu.do
SUMMARY:Semana Lasallista
DESCRIPTION:Dpto. de Pastoral
URL:https://dev.delasallesantiago.edu.do/event/semana-lasallista/
LOCATION:Colegio De La Salle\, Santiago\, F855+443\, Av. Juan Pablo Duarte 88\, Santiago De Los Caballeros\, 51000\, Dominican Republic
END:VEVENT
BEGIN:VEVENT
DTSTART;VALUE=DATE:20230505
DTEND;VALUE=DATE:20230513
DTSTAMP:20260423T172401
CREATED:20230419T131105Z
LAST-MODIFIED:20230419T131105Z
UID:1378-1683244800-1683935999@dev.delasallesantiago.edu.do
SUMMARY:Aplicación de evaluaciones finales para 6to Secundaria. Cierre del 4to periodo
DESCRIPTION:Secundaria II
URL:https://dev.delasallesantiago.edu.do/event/aplicacion-de-evaluaciones-finales-para-6to-secundaria-cierre-del-4to-periodo/
LOCATION:Colegio De La Salle\, Santiago\, F855+443\, Av. Juan Pablo Duarte 88\, Santiago De Los Caballeros\, 51000\, Dominican Republic
END:VEVENT
BEGIN:VEVENT
DTSTART;VALUE=DATE:20230505
DTEND;VALUE=DATE:20230507
DTSTAMP:20260423T172401
CREATED:20230419T130113Z
LAST-MODIFIED:20230419T130113Z
UID:1375-1683244800-1683417599@dev.delasallesantiago.edu.do
SUMMARY:Excursión de 3ro Secundaria
DESCRIPTION:Secundaria I
URL:https://dev.delasallesantiago.edu.do/event/excursion-de-3ro-secundaria/
LOCATION:Colegio De La Salle\, Santiago\, F855+443\, Av. Juan Pablo Duarte 88\, Santiago De Los Caballeros\, 51000\, Dominican Republic
END:VEVENT
BEGIN:VEVENT
DTSTART;VALUE=DATE:20230505
DTEND;VALUE=DATE:20230506
DTSTAMP:20260423T172401
CREATED:20230419T125706Z
LAST-MODIFIED:20230419T130319Z
UID:1373-1683244800-1683331199@dev.delasallesantiago.edu.do
SUMMARY:Convivencia de 5to Primaria
DESCRIPTION:Dpto. de Pastoral
URL:https://dev.delasallesantiago.edu.do/event/convivencia-5to-de-primaria/
LOCATION:Colegio De La Salle\, Santiago\, F855+443\, Av. Juan Pablo Duarte 88\, Santiago De Los Caballeros\, 51000\, Dominican Republic
END:VEVENT
BEGIN:VEVENT
DTSTART;VALUE=DATE:20230504
DTEND;VALUE=DATE:20230505
DTSTAMP:20260423T172401
CREATED:20230419T125309Z
LAST-MODIFIED:20230419T125309Z
UID:1371-1683158400-1683244799@dev.delasallesantiago.edu.do
SUMMARY:Premiación Feria Científica
DESCRIPTION:Dpto. de Ciencias
URL:https://dev.delasallesantiago.edu.do/event/premiacion-feria-cientifica/
LOCATION:Colegio De La Salle\, Santiago\, F855+443\, Av. Juan Pablo Duarte 88\, Santiago De Los Caballeros\, 51000\, Dominican Republic
END:VEVENT
BEGIN:VEVENT
DTSTART;VALUE=DATE:20230503
DTEND;VALUE=DATE:20230601
DTSTAMP:20260423T172401
CREATED:20230419T125149Z
LAST-MODIFIED:20230419T125149Z
UID:1369-1683072000-1685577599@dev.delasallesantiago.edu.do
SUMMARY:Escuelas de Padres y Madres (Online) Noche
DESCRIPTION:Dpto. de Orientación
URL:https://dev.delasallesantiago.edu.do/event/escuelas-de-padres-y-madres-online-noche/
LOCATION:Colegio De La Salle\, Santiago\, F855+443\, Av. Juan Pablo Duarte 88\, Santiago De Los Caballeros\, 51000\, Dominican Republic
END:VEVENT
BEGIN:VEVENT
DTSTART;VALUE=DATE:20230503
DTEND;VALUE=DATE:20230504
DTSTAMP:20260423T172401
CREATED:20230418T125815Z
LAST-MODIFIED:20230418T125815Z
UID:1365-1683072000-1683158399@dev.delasallesantiago.edu.do
SUMMARY:4to Encuentro de Seguimiento a las familias (3ro a 6to) de 7:30am a 11:00am - Claustro de 11:30am a 2:00pm
DESCRIPTION:Inicial\, Primaria I y II\, Secundaria I y II
URL:https://dev.delasallesantiago.edu.do/event/4to-encuentro-de-seguimiento-a-las-familias-3ro-a-6to-de-730am-a-1100am-claustro-de-1130am-a-200pm/
LOCATION:Colegio De La Salle\, Santiago\, F855+443\, Av. Juan Pablo Duarte 88\, Santiago De Los Caballeros\, 51000\, Dominican Republic
END:VEVENT
BEGIN:VEVENT
DTSTART;VALUE=DATE:20230502
DTEND;VALUE=DATE:20230504
DTSTAMP:20260423T172401
CREATED:20230418T124951Z
LAST-MODIFIED:20230418T124951Z
UID:1363-1682985600-1683158399@dev.delasallesantiago.edu.do
SUMMARY:Convivencia de 6to Secundaria
DESCRIPTION:Dpto. de Pastoral
URL:https://dev.delasallesantiago.edu.do/event/convivencia-de-6to-secundaria/
LOCATION:Colegio De La Salle\, Santiago\, F855+443\, Av. Juan Pablo Duarte 88\, Santiago De Los Caballeros\, 51000\, Dominican Republic
END:VEVENT
BEGIN:VEVENT
DTSTART;VALUE=DATE:20230501
DTEND;VALUE=DATE:20230502
DTSTAMP:20260423T172401
CREATED:20230418T123421Z
LAST-MODIFIED:20230418T123421Z
UID:1361-1682899200-1682985599@dev.delasallesantiago.edu.do
SUMMARY:Día Del Trabajador (Asueto)
DESCRIPTION:
URL:https://dev.delasallesantiago.edu.do/event/dia-del-trabajador-asueto/
LOCATION:Colegio De La Salle\, Santiago\, F855+443\, Av. Juan Pablo Duarte 88\, Santiago De Los Caballeros\, 51000\, Dominican Republic
END:VEVENT
BEGIN:VEVENT
DTSTART;VALUE=DATE:20230428
DTEND;VALUE=DATE:20230429
DTSTAMP:20260423T172401
CREATED:20230309T154908Z
LAST-MODIFIED:20230309T154908Z
UID:1331-1682640000-1682726399@dev.delasallesantiago.edu.do
SUMMARY:Reunión padres de Confirmación (virtual) Noche
DESCRIPTION:Dpto. de Pastoral
URL:https://dev.delasallesantiago.edu.do/event/reunion-padres-de-confirmacion-virtual-noche/
LOCATION:Colegio De La Salle\, Santiago\, F855+443\, Av. Juan Pablo Duarte 88\, Santiago De Los Caballeros\, 51000\, Dominican Republic
END:VEVENT
BEGIN:VEVENT
DTSTART;VALUE=DATE:20230428
DTEND;VALUE=DATE:20230429
DTSTAMP:20260423T172401
CREATED:20230309T153908Z
LAST-MODIFIED:20230309T153908Z
UID:1329-1682640000-1682726399@dev.delasallesantiago.edu.do
SUMMARY:Excursión 2do. Secundaria
DESCRIPTION:Coordinación Secundaria I
URL:https://dev.delasallesantiago.edu.do/event/excursion-2do-secundaria/
LOCATION:Colegio De La Salle\, Santiago\, F855+443\, Av. Juan Pablo Duarte 88\, Santiago De Los Caballeros\, 51000\, Dominican Republic
END:VEVENT
BEGIN:VEVENT
DTSTART;VALUE=DATE:20230427
DTEND;VALUE=DATE:20230428
DTSTAMP:20260423T172401
CREATED:20230309T152302Z
LAST-MODIFIED:20230309T152302Z
UID:1327-1682553600-1682639999@dev.delasallesantiago.edu.do
SUMMARY:Olimpiada Nacional Matemática (Cuarta Etapa)
DESCRIPTION:MINERD
URL:https://dev.delasallesantiago.edu.do/event/olimpiada-nacional-matematica-cuarta-etapa/
LOCATION:Colegio De La Salle\, Santiago\, F855+443\, Av. Juan Pablo Duarte 88\, Santiago De Los Caballeros\, 51000\, Dominican Republic
END:VEVENT
BEGIN:VEVENT
DTSTART;VALUE=DATE:20230425
DTEND;VALUE=DATE:20230430
DTSTAMP:20260423T172401
CREATED:20230309T151039Z
LAST-MODIFIED:20230309T151039Z
UID:1325-1682380800-1682812799@dev.delasallesantiago.edu.do
SUMMARY:2da. Feria de Arte
DESCRIPTION:Dpto. de Arte
URL:https://dev.delasallesantiago.edu.do/event/2da-feria-de-arte/
LOCATION:Colegio De La Salle\, Santiago\, F855+443\, Av. Juan Pablo Duarte 88\, Santiago De Los Caballeros\, 51000\, Dominican Republic
END:VEVENT
BEGIN:VEVENT
DTSTART;VALUE=DATE:20230421
DTEND;VALUE=DATE:20230423
DTSTAMP:20260423T172401
CREATED:20230309T150713Z
LAST-MODIFIED:20230309T150713Z
UID:1323-1682035200-1682207999@dev.delasallesantiago.edu.do
SUMMARY:Campamento 6to (21 y 22)
DESCRIPTION:Coordinación Primaria II
URL:https://dev.delasallesantiago.edu.do/event/campamento-6to-21-y-22/
LOCATION:Colegio De La Salle\, Santiago\, F855+443\, Av. Juan Pablo Duarte 88\, Santiago De Los Caballeros\, 51000\, Dominican Republic
END:VEVENT
BEGIN:VEVENT
DTSTART;VALUE=DATE:20230421
DTEND;VALUE=DATE:20230422
DTSTAMP:20260423T172401
CREATED:20230308T172304Z
LAST-MODIFIED:20230308T172304Z
UID:1311-1682035200-1682121599@dev.delasallesantiago.edu.do
SUMMARY:Excursión 1ro. Secundaria
DESCRIPTION:Coordinación Secundaria I
URL:https://dev.delasallesantiago.edu.do/event/excursion-1ro-secundaria/
LOCATION:Colegio De La Salle\, Santiago\, F855+443\, Av. Juan Pablo Duarte 88\, Santiago De Los Caballeros\, 51000\, Dominican Republic
END:VEVENT
BEGIN:VEVENT
DTSTART;VALUE=DATE:20230420
DTEND;VALUE=DATE:20230421
DTSTAMP:20260423T172401
CREATED:20230308T181339Z
LAST-MODIFIED:20230308T181339Z
UID:1313-1681948800-1682035199@dev.delasallesantiago.edu.do
SUMMARY:Olimpiada Nacional de Ciencias Sociales (Segunda Etapa)
DESCRIPTION:Coordinación Secundaria I
URL:https://dev.delasallesantiago.edu.do/event/olimpiada-nacional-de-ciencias-sociales-segunda-etapa/
LOCATION:Colegio De La Salle\, Santiago\, F855+443\, Av. Juan Pablo Duarte 88\, Santiago De Los Caballeros\, 51000\, Dominican Republic
END:VEVENT
BEGIN:VEVENT
DTSTART;VALUE=DATE:20230418
DTEND;VALUE=DATE:20230422
DTSTAMP:20260423T172401
CREATED:20230308T171434Z
LAST-MODIFIED:20230308T171434Z
UID:1309-1681776000-1682121599@dev.delasallesantiago.edu.do
SUMMARY:Olimpiada Nacional de Ciencias de la Naturaleza (Tercera Etapa)
DESCRIPTION:MINERD
URL:https://dev.delasallesantiago.edu.do/event/olimpiada-nacional-de-ciencias-de-la-naturaleza-tercera-etapa/
LOCATION:Colegio De La Salle\, Santiago\, F855+443\, Av. Juan Pablo Duarte 88\, Santiago De Los Caballeros\, 51000\, Dominican Republic
END:VEVENT
BEGIN:VEVENT
DTSTART;VALUE=DATE:20230418
DTEND;VALUE=DATE:20230420
DTSTAMP:20260423T172401
CREATED:20230308T171305Z
LAST-MODIFIED:20230308T171305Z
UID:1307-1681776000-1681948799@dev.delasallesantiago.edu.do
SUMMARY:Maratón Nacional del Libro
DESCRIPTION:MINERD
URL:https://dev.delasallesantiago.edu.do/event/maraton-nacional-del-libro/
LOCATION:Colegio De La Salle\, Santiago\, F855+443\, Av. Juan Pablo Duarte 88\, Santiago De Los Caballeros\, 51000\, Dominican Republic
END:VEVENT
BEGIN:VEVENT
DTSTART;VALUE=DATE:20230418
DTEND;VALUE=DATE:20230419
DTSTAMP:20260423T172401
CREATED:20230306T182528Z
LAST-MODIFIED:20230306T182528Z
UID:1304-1681776000-1681862399@dev.delasallesantiago.edu.do
SUMMARY:Escuela de Padres y Madres\, Panel: Salud Digital
DESCRIPTION:Dpto. de Orientación
URL:https://dev.delasallesantiago.edu.do/event/escuela-de-padres-y-madres-panel-salud-digital/
LOCATION:Colegio De La Salle\, Santiago\, F855+443\, Av. Juan Pablo Duarte 88\, Santiago De Los Caballeros\, 51000\, Dominican Republic
END:VEVENT
BEGIN:VEVENT
DTSTART;VALUE=DATE:20230414
DTEND;VALUE=DATE:20230507
DTSTAMP:20260423T172401
CREATED:20230306T182412Z
LAST-MODIFIED:20230306T182412Z
UID:1302-1681430400-1683417599@dev.delasallesantiago.edu.do
SUMMARY:Torneo Intercolegial 87 Aniversario DLS (Futbol\, Ajedrez y Tenis de Mesa) viernes y sábado
DESCRIPTION:Dpto. de Deportes
URL:https://dev.delasallesantiago.edu.do/event/torneo-intercolegial-87-aniversario-dls-futbol-ajedrez-y-tenis-de-mesa-viernes-y-sabado/
LOCATION:Colegio De La Salle\, Santiago\, F855+443\, Av. Juan Pablo Duarte 88\, Santiago De Los Caballeros\, 51000\, Dominican Republic
END:VEVENT
BEGIN:VEVENT
DTSTART;VALUE=DATE:20230414
DTEND;VALUE=DATE:20230415
DTSTAMP:20260423T172401
CREATED:20230306T182025Z
LAST-MODIFIED:20230306T182025Z
UID:1300-1681430400-1681516799@dev.delasallesantiago.edu.do
SUMMARY:3ra. Entrega notas a las familias (Tercer periodo) de 7:30am a 11:00am
DESCRIPTION:Inicial\, Primaria I y II\, Secundaria I y II
URL:https://dev.delasallesantiago.edu.do/event/3ra-entrega-notas-a-las-familias-tercer-periodo-de-730am-a-1100am/
LOCATION:Colegio De La Salle\, Santiago\, F855+443\, Av. Juan Pablo Duarte 88\, Santiago De Los Caballeros\, 51000\, Dominican Republic
END:VEVENT
BEGIN:VEVENT
DTSTART;VALUE=DATE:20230413
DTEND;VALUE=DATE:20230415
DTSTAMP:20260423T172401
CREATED:20230306T181656Z
LAST-MODIFIED:20230306T181656Z
UID:1298-1681344000-1681516799@dev.delasallesantiago.edu.do
SUMMARY:Olimpiada Nacional de Lectura y Escritura (Tercera Etapa)
DESCRIPTION:MINERD
URL:https://dev.delasallesantiago.edu.do/event/olimpiada-nacional-de-lectura-y-escritura-tercera-etapa/
LOCATION:Colegio De La Salle\, Santiago\, F855+443\, Av. Juan Pablo Duarte 88\, Santiago De Los Caballeros\, 51000\, Dominican Republic
END:VEVENT
BEGIN:VEVENT
DTSTART;VALUE=DATE:20230410
DTEND;VALUE=DATE:20230411
DTSTAMP:20260423T172401
CREATED:20230306T181502Z
LAST-MODIFIED:20230306T181502Z
UID:1296-1681084800-1681171199@dev.delasallesantiago.edu.do
SUMMARY:Inicio del 4to Período (3ro a 5to)
DESCRIPTION:Primaria I y II\, Secundaria I y II
URL:https://dev.delasallesantiago.edu.do/event/inicio-del-4to-periodo-3ro-a-5to/
LOCATION:Colegio De La Salle\, Santiago\, F855+443\, Av. Juan Pablo Duarte 88\, Santiago De Los Caballeros\, 51000\, Dominican Republic
END:VEVENT
BEGIN:VEVENT
DTSTART;VALUE=DATE:20230410
DTEND;VALUE=DATE:20230411
DTSTAMP:20260423T172401
CREATED:20230306T181211Z
LAST-MODIFIED:20230306T181211Z
UID:1294-1681084800-1681171199@dev.delasallesantiago.edu.do
SUMMARY:Celebración Pascua de Resurrección (Todos los Niveles)
DESCRIPTION:Dpto. de Pastoral
URL:https://dev.delasallesantiago.edu.do/event/celebracion-pascua-de-resurreccion-todos-los-niveles/
LOCATION:Colegio De La Salle\, Santiago\, F855+443\, Av. Juan Pablo Duarte 88\, Santiago De Los Caballeros\, 51000\, Dominican Republic
END:VEVENT
BEGIN:VEVENT
DTSTART;VALUE=DATE:20230403
DTEND;VALUE=DATE:20230408
DTSTAMP:20260423T172401
CREATED:20230306T180954Z
LAST-MODIFIED:20230306T180954Z
UID:1292-1680480000-1680911999@dev.delasallesantiago.edu.do
SUMMARY:Semana Santa
DESCRIPTION:
URL:https://dev.delasallesantiago.edu.do/event/semana-santa/
LOCATION:Colegio De La Salle\, Santiago\, F855+443\, Av. Juan Pablo Duarte 88\, Santiago De Los Caballeros\, 51000\, Dominican Republic
END:VEVENT
BEGIN:VEVENT
DTSTART;VALUE=DATE:20230331
DTEND;VALUE=DATE:20230401
DTSTAMP:20260423T172401
CREATED:20230306T180352Z
LAST-MODIFIED:20230306T180352Z
UID:1289-1680220800-1680307199@dev.delasallesantiago.edu.do
SUMMARY:Cierre periodo de Recuperación Pedagógica
DESCRIPTION:MINERD
URL:https://dev.delasallesantiago.edu.do/event/cierre-periodo-de-recuperacion-pedagogica/
LOCATION:Colegio De La Salle\, Santiago\, F855+443\, Av. Juan Pablo Duarte 88\, Santiago De Los Caballeros\, 51000\, Dominican Republic
END:VEVENT
BEGIN:VEVENT
DTSTART;VALUE=DATE:20230331
DTEND;VALUE=DATE:20230401
DTSTAMP:20260423T172401
CREATED:20230306T180147Z
LAST-MODIFIED:20230306T180147Z
UID:1287-1680220800-1680307199@dev.delasallesantiago.edu.do
SUMMARY:Excursión 1ero\, 2do y 4to Primaria
DESCRIPTION:Coordinación Primaria I y II
URL:https://dev.delasallesantiago.edu.do/event/excursion-1ero-2do-y-4to-primaria/
LOCATION:Colegio De La Salle\, Santiago\, F855+443\, Av. Juan Pablo Duarte 88\, Santiago De Los Caballeros\, 51000\, Dominican Republic
END:VEVENT
BEGIN:VEVENT
DTSTART;VALUE=DATE:20230330
DTEND;VALUE=DATE:20230331
DTSTAMP:20260423T172401
CREATED:20230306T175917Z
LAST-MODIFIED:20230306T180605Z
UID:1285-1680134400-1680220799@dev.delasallesantiago.edu.do
SUMMARY:Batalla del 30 de marzo
DESCRIPTION:Dpto. Sociales
URL:https://dev.delasallesantiago.edu.do/event/batalla-del-30-de-marzo/
LOCATION:Colegio De La Salle\, Santiago\, F855+443\, Av. Juan Pablo Duarte 88\, Santiago De Los Caballeros\, 51000\, Dominican Republic
END:VEVENT
END:VCALENDAR