BEGIN:VCALENDAR
VERSION:2.0
PRODID:-//Colegio De La Salle, Santiago - ECPv6.15.20//NONSGML v1.0//EN
CALSCALE:GREGORIAN
METHOD:PUBLISH
X-WR-CALNAME:Colegio De La Salle, Santiago
X-ORIGINAL-URL:https://dev.delasallesantiago.edu.do
X-WR-CALDESC:Eventos para Colegio De La Salle, Santiago
REFRESH-INTERVAL;VALUE=DURATION:PT1H
X-Robots-Tag:noindex
X-PUBLISHED-TTL:PT1H
BEGIN:VTIMEZONE
TZID:UTC
BEGIN:STANDARD
TZOFFSETFROM:+0000
TZOFFSETTO:+0000
TZNAME:UTC
DTSTART:20210101T000000
END:STANDARD
END:VTIMEZONE
BEGIN:VEVENT
DTSTART;TZID=UTC:20220928T193000
DTEND;TZID=UTC:20220928T203000
DTSTAMP:20260424T105912
CREATED:20220928T131120Z
LAST-MODIFIED:20220928T131120Z
UID:1068-1664393400-1664397000@dev.delasallesantiago.edu.do
SUMMARY:Reunión virtual informativa Orientación Vocacional y Horas de Servicios (Familias de 6to Secundaria)
DESCRIPTION:Dpto. de Orientación
URL:https://dev.delasallesantiago.edu.do/event/reunion-virtual-informativa-orientacion-vocacional-y-horas-de-servicios-familias-de-6to-secundaria/
LOCATION:Colegio De La Salle\, Santiago\, F855+443\, Av. Juan Pablo Duarte 88\, Santiago De Los Caballeros\, 51000\, Dominican Republic
END:VEVENT
BEGIN:VEVENT
DTSTART;VALUE=DATE:20220928
DTEND;VALUE=DATE:20220929
DTSTAMP:20260424T105912
CREATED:20220927T122116Z
LAST-MODIFIED:20220927T122116Z
UID:1039-1664323200-1664409599@dev.delasallesantiago.edu.do
SUMMARY:Primer Claustro General
DESCRIPTION:No hay docencia para Nivel Inicial y Primaria I. 3ro Primaria hasta 6to Secundaria tienen clases asincronicas.
URL:https://dev.delasallesantiago.edu.do/event/primer-claustro-general/
LOCATION:Colegio De La Salle\, Santiago\, F855+443\, Av. Juan Pablo Duarte 88\, Santiago De Los Caballeros\, 51000\, Dominican Republic
END:VEVENT
BEGIN:VEVENT
DTSTART;TZID=UTC:20220923T080000
DTEND;TZID=UTC:20220923T090000
DTSTAMP:20260424T105912
CREATED:20220921T153827Z
LAST-MODIFIED:20220921T153938Z
UID:1010-1663920000-1663923600@dev.delasallesantiago.edu.do
SUMMARY:Misa por el Dia de Nuestra Señora de Las Mercedes
DESCRIPTION:
URL:https://dev.delasallesantiago.edu.do/event/misa-por-el-dia-de-nuestra-senora-de-las-mercedes/
LOCATION:Colegio De La Salle\, Santiago\, F855+443\, Av. Juan Pablo Duarte 88\, Santiago De Los Caballeros\, 51000\, Dominican Republic
END:VEVENT
BEGIN:VEVENT
DTSTART;TZID=UTC:20220921T150000
DTEND;TZID=UTC:20220921T170000
DTSTAMP:20260424T105912
CREATED:20220920T175133Z
LAST-MODIFIED:20220920T175133Z
UID:1008-1663772400-1663779600@dev.delasallesantiago.edu.do
SUMMARY:DLS Language Center
DESCRIPTION:Empiezan las clases para el DLS Language Center en las tardes.
URL:https://dev.delasallesantiago.edu.do/event/dls-language-center/
LOCATION:Colegio De La Salle\, Santiago\, F855+443\, Av. Juan Pablo Duarte 88\, Santiago De Los Caballeros\, 51000\, Dominican Republic
END:VEVENT
BEGIN:VEVENT
DTSTART;TZID=UTC:20220912T073000
DTEND;TZID=UTC:20220912T080000
DTSTAMP:20260424T105912
CREATED:20220831T171532Z
LAST-MODIFIED:20220909T144556Z
UID:890-1662967800-1662969600@dev.delasallesantiago.edu.do
SUMMARY:Entrega de certificados del TOEFL
DESCRIPTION:Para los estudiantes de 2do ciclo Secundaria.
URL:https://dev.delasallesantiago.edu.do/event/entrega-de-certificados-del-toefl/
LOCATION:Colegio De La Salle\, Santiago\, F855+443\, Av. Juan Pablo Duarte 88\, Santiago De Los Caballeros\, 51000\, Dominican Republic
END:VEVENT
BEGIN:VEVENT
DTSTART;TZID=UTC:20220910T063000
DTEND;TZID=UTC:20220910T160000
DTSTAMP:20260424T105912
CREATED:20220831T171208Z
LAST-MODIFIED:20220831T171208Z
UID:888-1662791400-1662825600@dev.delasallesantiago.edu.do
SUMMARY:Convivencia de Jarabacoa
DESCRIPTION:Para los estudiantes 5to de Secundaria\, Ciclo II
URL:https://dev.delasallesantiago.edu.do/event/convivencia-de-jarabacoa-2/
LOCATION:Colegio De La Salle\, Santiago\, F855+443\, Av. Juan Pablo Duarte 88\, Santiago De Los Caballeros\, 51000\, Dominican Republic
END:VEVENT
BEGIN:VEVENT
DTSTART;TZID=UTC:20220909T063000
DTEND;TZID=UTC:20220909T160000
DTSTAMP:20260424T105912
CREATED:20220831T171015Z
LAST-MODIFIED:20220831T171109Z
UID:886-1662705000-1662739200@dev.delasallesantiago.edu.do
SUMMARY:Convivencia de Jarabacoa
DESCRIPTION:Para los estudiantes 5to de Secundaria\, Ciclo II
URL:https://dev.delasallesantiago.edu.do/event/convivencia-de-jarabacoa/
LOCATION:Colegio De La Salle\, Santiago\, F855+443\, Av. Juan Pablo Duarte 88\, Santiago De Los Caballeros\, 51000\, Dominican Republic
END:VEVENT
BEGIN:VEVENT
DTSTART;TZID=UTC:20220908T080000
DTEND;TZID=UTC:20220908T090000
DTSTAMP:20260424T105912
CREATED:20220906T131152Z
LAST-MODIFIED:20220907T180305Z
UID:936-1662624000-1662627600@dev.delasallesantiago.edu.do
SUMMARY:Misa por el novenario de la profesora Angela Gisela Minaya
DESCRIPTION:
URL:https://dev.delasallesantiago.edu.do/event/misa-de-honor-a-la-profesora-angela-gisela-minaya/
LOCATION:Colegio De La Salle\, Santiago\, F855+443\, Av. Juan Pablo Duarte 88\, Santiago De Los Caballeros\, 51000\, Dominican Republic
END:VEVENT
BEGIN:VEVENT
DTSTART;VALUE=DATE:20220905
DTEND;VALUE=DATE:20220914
DTSTAMP:20260424T105912
CREATED:20220831T173221Z
LAST-MODIFIED:20220901T144728Z
UID:896-1662336000-1663113599@dev.delasallesantiago.edu.do
SUMMARY:Día de Fotos
DESCRIPTION:Para todo el colegio. Ya sus profesores le informaran que día le toca al curso. Vengan peinados.
URL:https://dev.delasallesantiago.edu.do/event/dia-de-fotos/
LOCATION:Colegio De La Salle\, Santiago\, F855+443\, Av. Juan Pablo Duarte 88\, Santiago De Los Caballeros\, 51000\, Dominican Republic
END:VEVENT
BEGIN:VEVENT
DTSTART;VALUE=DATE:20220902
DTEND;VALUE=DATE:20220903
DTSTAMP:20260424T105912
CREATED:20220823T124222Z
LAST-MODIFIED:20220829T150401Z
UID:842-1662076800-1662163199@dev.delasallesantiago.edu.do
SUMMARY:Convivencia Pez y Pan
DESCRIPTION:Para los estudiantes de 5to y 6to Secundaria que estaban en el primer taller el año pasado cuando estaban en 4to y 5to Secundaria. Va a durar el día entero y deberían estar de regreso al colegio a las 5pm.
URL:https://dev.delasallesantiago.edu.do/event/convivencia-pez-y-pan/
LOCATION:Colegio De La Salle\, Santiago\, F855+443\, Av. Juan Pablo Duarte 88\, Santiago De Los Caballeros\, 51000\, Dominican Republic
END:VEVENT
BEGIN:VEVENT
DTSTART;TZID=UTC:20220901T080000
DTEND;TZID=UTC:20220901T084500
DTSTAMP:20260424T105912
CREATED:20220817T154500Z
LAST-MODIFIED:20220829T144644Z
UID:822-1662019200-1662021900@dev.delasallesantiago.edu.do
SUMMARY:Misa de inicio de año escolar
DESCRIPTION:
URL:https://dev.delasallesantiago.edu.do/event/misa-de-inicio-de-ano-escolar/
LOCATION:Colegio De La Salle\, Santiago\, F855+443\, Av. Juan Pablo Duarte 88\, Santiago De Los Caballeros\, 51000\, Dominican Republic
END:VEVENT
BEGIN:VEVENT
DTSTART;TZID=UTC:20220829T150000
DTEND;TZID=UTC:20220829T180000
DTSTAMP:20260424T105912
CREATED:20220817T152205Z
LAST-MODIFIED:20220817T163103Z
UID:818-1661785200-1661796000@dev.delasallesantiago.edu.do
SUMMARY:Inicio de Deportes y Escuela Vespertina en las tardes
DESCRIPTION:
URL:https://dev.delasallesantiago.edu.do/event/inicio-de-deportes-y-escuela-vespertina/
LOCATION:Colegio De La Salle\, Santiago\, F855+443\, Av. Juan Pablo Duarte 88\, Santiago De Los Caballeros\, 51000\, Dominican Republic
END:VEVENT
BEGIN:VEVENT
DTSTART;VALUE=DATE:20220829
DTEND;VALUE=DATE:20220916
DTSTAMP:20260424T105912
CREATED:20220831T172532Z
LAST-MODIFIED:20220831T172739Z
UID:892-1661731200-1663286399@dev.delasallesantiago.edu.do
SUMMARY:Evaluación Diagnóstica
DESCRIPTION:Para todo 2do Ciclo de Secundaria.
URL:https://dev.delasallesantiago.edu.do/event/evaluacion-diagnostica/
LOCATION:Colegio De La Salle\, Santiago\, F855+443\, Av. Juan Pablo Duarte 88\, Santiago De Los Caballeros\, 51000\, Dominican Republic
END:VEVENT
BEGIN:VEVENT
DTSTART;TZID=UTC:20220824T190000
DTEND;TZID=UTC:20220824T203000
DTSTAMP:20260424T105912
CREATED:20220817T135111Z
LAST-MODIFIED:20220817T163153Z
UID:811-1661367600-1661373000@dev.delasallesantiago.edu.do
SUMMARY:Reunión General con las Familias
DESCRIPTION:
URL:https://dev.delasallesantiago.edu.do/event/direccion-general/
LOCATION:Colegio De La Salle\, Santiago\, F855+443\, Av. Juan Pablo Duarte 88\, Santiago De Los Caballeros\, 51000\, Dominican Republic
END:VEVENT
BEGIN:VEVENT
DTSTART;TZID=UTC:20220822T073000
DTEND;TZID=UTC:20220822T110000
DTSTAMP:20260424T105912
CREATED:20220817T133241Z
LAST-MODIFIED:20220817T154623Z
UID:799-1661153400-1661166000@dev.delasallesantiago.edu.do
SUMMARY:Inicio Primer Periodo 2022-2023
DESCRIPTION:Inicio de docencia ambientación e inducción para los alumnos de Primaria II\, Secundaria I y Secundaria II.
URL:https://dev.delasallesantiago.edu.do/event/799/
LOCATION:Colegio De La Salle\, Santiago\, F855+443\, Av. Juan Pablo Duarte 88\, Santiago De Los Caballeros\, 51000\, Dominican Republic
END:VEVENT
END:VCALENDAR