BEGIN:VCALENDAR
VERSION:2.0
PRODID:-//Colegio De La Salle, Santiago - ECPv6.15.20//NONSGML v1.0//EN
CALSCALE:GREGORIAN
METHOD:PUBLISH
X-WR-CALNAME:Colegio De La Salle, Santiago
X-ORIGINAL-URL:https://dev.delasallesantiago.edu.do
X-WR-CALDESC:Eventos para Colegio De La Salle, Santiago
REFRESH-INTERVAL;VALUE=DURATION:PT1H
X-Robots-Tag:noindex
X-PUBLISHED-TTL:PT1H
BEGIN:VTIMEZONE
TZID:UTC
BEGIN:STANDARD
TZOFFSETFROM:+0000
TZOFFSETTO:+0000
TZNAME:UTC
DTSTART:20210101T000000
END:STANDARD
END:VTIMEZONE
BEGIN:VEVENT
DTSTART;VALUE=DATE:20221107
DTEND;VALUE=DATE:20221108
DTSTAMP:20260424T072741
CREATED:20221024T132650Z
LAST-MODIFIED:20221024T132650Z
UID:1088-1667779200-1667865599@dev.delasallesantiago.edu.do
SUMMARY:Día del Deporte (celebraiones y actividades) - Todos los Ciclos
DESCRIPTION:Dpto. de Deportes
URL:https://dev.delasallesantiago.edu.do/event/dia-del-deporte-celebraiones-y-actividades-todos-los-ciclos/
LOCATION:Colegio De La Salle\, Santiago\, F855+443\, Av. Juan Pablo Duarte 88\, Santiago De Los Caballeros\, 51000\, Dominican Republic
END:VEVENT
BEGIN:VEVENT
DTSTART;VALUE=DATE:20221104
DTEND;VALUE=DATE:20221105
DTSTAMP:20260424T072741
CREATED:20221024T132131Z
LAST-MODIFIED:20221024T132131Z
UID:1086-1667520000-1667606399@dev.delasallesantiago.edu.do
SUMMARY:Convivencia 2do. de Secundaria I
DESCRIPTION:Dpto. de Pastoral
URL:https://dev.delasallesantiago.edu.do/event/convivencia-2do-de-secundaria-i/
LOCATION:Colegio De La Salle\, Santiago\, F855+443\, Av. Juan Pablo Duarte 88\, Santiago De Los Caballeros\, 51000\, Dominican Republic
END:VEVENT
BEGIN:VEVENT
DTSTART;TZID=UTC:20221103T080000
DTEND;TZID=UTC:20221103T090000
DTSTAMP:20260424T072741
CREATED:20221031T125235Z
LAST-MODIFIED:20221031T125235Z
UID:1137-1667462400-1667466000@dev.delasallesantiago.edu.do
SUMMARY:Cuenta cuentos para primaria
DESCRIPTION:
URL:https://dev.delasallesantiago.edu.do/event/cuenta-cuentos-para-primaria/
LOCATION:Colegio De La Salle\, Santiago\, F855+443\, Av. Juan Pablo Duarte 88\, Santiago De Los Caballeros\, 51000\, Dominican Republic
END:VEVENT
BEGIN:VEVENT
DTSTART;VALUE=DATE:20221031
DTEND;VALUE=DATE:20221101
DTSTAMP:20260424T072741
CREATED:20220927T181956Z
LAST-MODIFIED:20220927T181956Z
UID:1058-1667174400-1667260799@dev.delasallesantiago.edu.do
SUMMARY:Claustro General (Clases asíncronas)
DESCRIPTION:Dirección General
URL:https://dev.delasallesantiago.edu.do/event/claustro-general-clases-asincronas/
LOCATION:Colegio De La Salle\, Santiago\, F855+443\, Av. Juan Pablo Duarte 88\, Santiago De Los Caballeros\, 51000\, Dominican Republic
END:VEVENT
BEGIN:VEVENT
DTSTART;VALUE=DATE:20221026
DTEND;VALUE=DATE:20221029
DTSTAMP:20260424T072741
CREATED:20220927T181821Z
LAST-MODIFIED:20220927T181821Z
UID:1056-1666742400-1667001599@dev.delasallesantiago.edu.do
SUMMARY:Modelo Lasallista de la ONU
DESCRIPTION:Dpto. Ciencias Sociales
URL:https://dev.delasallesantiago.edu.do/event/modelo-lasallista-de-la-onu/
LOCATION:Colegio De La Salle\, Santiago\, F855+443\, Av. Juan Pablo Duarte 88\, Santiago De Los Caballeros\, 51000\, Dominican Republic
END:VEVENT
BEGIN:VEVENT
DTSTART;VALUE=DATE:20221025
DTEND;VALUE=DATE:20221026
DTSTAMP:20260424T072741
CREATED:20220927T181551Z
LAST-MODIFIED:20220927T181551Z
UID:1054-1666656000-1666742399@dev.delasallesantiago.edu.do
SUMMARY:1ra. Entrega notas a las familias (Primer Periodo)
DESCRIPTION:Primaria II\, Secundaria I y II
URL:https://dev.delasallesantiago.edu.do/event/1ra-entrega-notas-a-las-familias-primer-periodo/
LOCATION:Colegio De La Salle\, Santiago\, F855+443\, Av. Juan Pablo Duarte 88\, Santiago De Los Caballeros\, 51000\, Dominican Republic
END:VEVENT
BEGIN:VEVENT
DTSTART;TZID=UTC:20221022T090000
DTEND;TZID=UTC:20221022T120000
DTSTAMP:20260424T072741
CREATED:20220922T182408Z
LAST-MODIFIED:20221003T114844Z
UID:1024-1666429200-1666440000@dev.delasallesantiago.edu.do
SUMMARY:Torneo Intercolegial 87 Aniversario DLS (Baloncesto y Vóleibol)
DESCRIPTION:
URL:https://dev.delasallesantiago.edu.do/event/torneo-dlss-2022-87-aniversario-beisbol-y-voleibol-6/
LOCATION:Colegio De La Salle\, Santiago\, F855+443\, Av. Juan Pablo Duarte 88\, Santiago De Los Caballeros\, 51000\, Dominican Republic
END:VEVENT
BEGIN:VEVENT
DTSTART;TZID=UTC:20221021T150000
DTEND;TZID=UTC:20221021T180000
DTSTAMP:20260424T072741
CREATED:20220922T182118Z
LAST-MODIFIED:20221003T114917Z
UID:1022-1666364400-1666375200@dev.delasallesantiago.edu.do
SUMMARY:Torneo Intercolegial 87 Aniversario DLS (Baloncesto y Vóleibol)
DESCRIPTION:
URL:https://dev.delasallesantiago.edu.do/event/torneo-dlss-2022-87-aniversario-beisbol-y-voleibol-5/
LOCATION:Colegio De La Salle\, Santiago\, F855+443\, Av. Juan Pablo Duarte 88\, Santiago De Los Caballeros\, 51000\, Dominican Republic
END:VEVENT
BEGIN:VEVENT
DTSTART;TZID=UTC:20221020T180000
DTEND;TZID=UTC:20221020T203000
DTSTAMP:20260424T072741
CREATED:20220927T172045Z
LAST-MODIFIED:20220927T172045Z
UID:1052-1666288800-1666297800@dev.delasallesantiago.edu.do
SUMMARY:Escuela de Padres y Madres Conferencia Magistral: Sexualidad Sana con Elaine Feliz - Para todos los niveles 6:00 pm a 8:30 pm (Presencial)
DESCRIPTION:Dpto. de Orientación
URL:https://dev.delasallesantiago.edu.do/event/escuela-de-padres-y-madres-conferencia-magistral-sexualidad-sana-con-elaine-feliz-para-todos-los-niveles-600-pm-a-830-pm-presencial/
LOCATION:Colegio De La Salle\, Santiago\, F855+443\, Av. Juan Pablo Duarte 88\, Santiago De Los Caballeros\, 51000\, Dominican Republic
END:VEVENT
BEGIN:VEVENT
DTSTART;VALUE=DATE:20221019
DTEND;VALUE=DATE:20221020
DTSTAMP:20260424T072741
CREATED:20220927T171729Z
LAST-MODIFIED:20220927T171729Z
UID:1050-1666137600-1666223999@dev.delasallesantiago.edu.do
SUMMARY:Rosario Familiar
DESCRIPTION:Dpto. de Pastoral
URL:https://dev.delasallesantiago.edu.do/event/rosario-familiar/
LOCATION:Colegio De La Salle\, Santiago\, F855+443\, Av. Juan Pablo Duarte 88\, Santiago De Los Caballeros\, 51000\, Dominican Republic
END:VEVENT
BEGIN:VEVENT
DTSTART;VALUE=DATE:20221019
DTEND;VALUE=DATE:20221020
DTSTAMP:20260424T072741
CREATED:20220927T170042Z
LAST-MODIFIED:20220927T170042Z
UID:1044-1666137600-1666223999@dev.delasallesantiago.edu.do
SUMMARY:Comilona 3ro Secundaria
DESCRIPTION:
URL:https://dev.delasallesantiago.edu.do/event/comilona-3ro-secundaria/
LOCATION:Colegio De La Salle\, Santiago\, F855+443\, Av. Juan Pablo Duarte 88\, Santiago De Los Caballeros\, 51000\, Dominican Republic
END:VEVENT
BEGIN:VEVENT
DTSTART;TZID=UTC:20221015T090000
DTEND;TZID=UTC:20221015T120000
DTSTAMP:20260424T072741
CREATED:20220922T181743Z
LAST-MODIFIED:20221003T114950Z
UID:1020-1665824400-1665835200@dev.delasallesantiago.edu.do
SUMMARY:Torneo Intercolegial 87 Aniversario DLS (Baloncesto y Vóleibol)
DESCRIPTION:
URL:https://dev.delasallesantiago.edu.do/event/torneo-dlss-2022-87-aniversario-beisbol-y-voleibol-4/
LOCATION:Colegio De La Salle\, Santiago\, F855+443\, Av. Juan Pablo Duarte 88\, Santiago De Los Caballeros\, 51000\, Dominican Republic
END:VEVENT
BEGIN:VEVENT
DTSTART;TZID=UTC:20221014T150000
DTEND;TZID=UTC:20221014T180000
DTSTAMP:20260424T072741
CREATED:20220922T181555Z
LAST-MODIFIED:20221003T115012Z
UID:1018-1665759600-1665770400@dev.delasallesantiago.edu.do
SUMMARY:Torneo Intercolegial 87 Aniversario DLS (Baloncesto y Vóleibol)
DESCRIPTION:
URL:https://dev.delasallesantiago.edu.do/event/torneo-dlss-2022-87-aniversario-beisbol-y-voleibol-3/
LOCATION:Colegio De La Salle\, Santiago\, F855+443\, Av. Juan Pablo Duarte 88\, Santiago De Los Caballeros\, 51000\, Dominican Republic
END:VEVENT
BEGIN:VEVENT
DTSTART;VALUE=DATE:20221014
DTEND;VALUE=DATE:20221015
DTSTAMP:20260424T072741
CREATED:20220927T170503Z
LAST-MODIFIED:20220927T170503Z
UID:1048-1665705600-1665791999@dev.delasallesantiago.edu.do
SUMMARY:Convivencia 1ro de Secundaria
DESCRIPTION:Dpto. de Pastoral
URL:https://dev.delasallesantiago.edu.do/event/convivencia-1ro-de-secundaria/
LOCATION:Colegio De La Salle\, Santiago\, F855+443\, Av. Juan Pablo Duarte 88\, Santiago De Los Caballeros\, 51000\, Dominican Republic
END:VEVENT
BEGIN:VEVENT
DTSTART;TZID=UTC:20221012T063000
DTEND;TZID=UTC:20221012T200000
DTSTAMP:20260424T072741
CREATED:20220927T170358Z
LAST-MODIFIED:20220927T170358Z
UID:1046-1665556200-1665604800@dev.delasallesantiago.edu.do
SUMMARY:Conferencia : Acompañando a mi hijo en la elección de carrera - 6:30pm (Presencial)
DESCRIPTION:Dpto. de Orientación
URL:https://dev.delasallesantiago.edu.do/event/conferencia-acompanando-a-mi-hijo-en-la-eleccion-de-carrera-630pm-presencial/
LOCATION:Colegio De La Salle\, Santiago\, F855+443\, Av. Juan Pablo Duarte 88\, Santiago De Los Caballeros\, 51000\, Dominican Republic
END:VEVENT
BEGIN:VEVENT
DTSTART;VALUE=DATE:20221012
DTEND;VALUE=DATE:20221013
DTSTAMP:20260424T072741
CREATED:20220927T133025Z
LAST-MODIFIED:20220927T133025Z
UID:1042-1665532800-1665619199@dev.delasallesantiago.edu.do
SUMMARY:Comilona 2do Secundaria
DESCRIPTION:
URL:https://dev.delasallesantiago.edu.do/event/comilona-2do-secundaria/
LOCATION:Colegio De La Salle\, Santiago\, F855+443\, Av. Juan Pablo Duarte 88\, Santiago De Los Caballeros\, 51000\, Dominican Republic
END:VEVENT
BEGIN:VEVENT
DTSTART;VALUE=DATE:20221010
DTEND;VALUE=DATE:20221011
DTSTAMP:20260424T072741
CREATED:20220926T182743Z
LAST-MODIFIED:20220926T182743Z
UID:1037-1665360000-1665446399@dev.delasallesantiago.edu.do
SUMMARY:Inicio proyecto Misión Joca
DESCRIPTION:
URL:https://dev.delasallesantiago.edu.do/event/inicio-proyecto-mision-joca/
LOCATION:Colegio De La Salle\, Santiago\, F855+443\, Av. Juan Pablo Duarte 88\, Santiago De Los Caballeros\, 51000\, Dominican Republic
END:VEVENT
BEGIN:VEVENT
DTSTART;TZID=UTC:20221008T090000
DTEND;TZID=UTC:20221008T120000
DTSTAMP:20260424T072741
CREATED:20220922T181340Z
LAST-MODIFIED:20221003T114803Z
UID:1016-1665219600-1665230400@dev.delasallesantiago.edu.do
SUMMARY:Torneo Intercolegial 87 Aniversario DLS (Baloncesto y Vóleibol)
DESCRIPTION:
URL:https://dev.delasallesantiago.edu.do/event/torneo-dlss-2022-87-aniversario-beisbol-y-voleibol-2/
LOCATION:Colegio De La Salle\, Santiago\, F855+443\, Av. Juan Pablo Duarte 88\, Santiago De Los Caballeros\, 51000\, Dominican Republic
END:VEVENT
BEGIN:VEVENT
DTSTART;TZID=UTC:20221007T030000
DTEND;TZID=UTC:20221007T180000
DTSTAMP:20260424T072741
CREATED:20220922T174911Z
LAST-MODIFIED:20221003T114728Z
UID:1014-1665111600-1665165600@dev.delasallesantiago.edu.do
SUMMARY:Torneo Intercolegial 87 Aniversario DLS (Baloncesto y Vóleibol)
DESCRIPTION:
URL:https://dev.delasallesantiago.edu.do/event/torneo-dlss-2022-87-aniversario-beisbol-y-voleibol/
LOCATION:Colegio De La Salle\, Santiago\, F855+443\, Av. Juan Pablo Duarte 88\, Santiago De Los Caballeros\, 51000\, Dominican Republic
END:VEVENT
BEGIN:VEVENT
DTSTART;VALUE=DATE:20221005
DTEND;VALUE=DATE:20221006
DTSTAMP:20260424T072741
CREATED:20220926T182100Z
LAST-MODIFIED:20220926T182100Z
UID:1035-1664928000-1665014399@dev.delasallesantiago.edu.do
SUMMARY:Comilona 1ro Secundaria
DESCRIPTION:
URL:https://dev.delasallesantiago.edu.do/event/comilona-1ro-secundaria/
LOCATION:Colegio De La Salle\, Santiago\, F855+443\, Av. Juan Pablo Duarte 88\, Santiago De Los Caballeros\, 51000\, Dominican Republic
END:VEVENT
BEGIN:VEVENT
DTSTART;VALUE=DATE:20221005
DTEND;VALUE=DATE:20221008
DTSTAMP:20260424T072741
CREATED:20220926T121152Z
LAST-MODIFIED:20220926T182256Z
UID:1033-1664928000-1665187199@dev.delasallesantiago.edu.do
SUMMARY:Maratón de lectura
DESCRIPTION:
URL:https://dev.delasallesantiago.edu.do/event/maraton-de-lectura/
LOCATION:Colegio De La Salle\, Santiago\, F855+443\, Av. Juan Pablo Duarte 88\, Santiago De Los Caballeros\, 51000\, Dominican Republic
END:VEVENT
BEGIN:VEVENT
DTSTART;VALUE=DATE:20221003
DTEND;VALUE=DATE:20221101
DTSTAMP:20260424T072741
CREATED:20220927T182907Z
LAST-MODIFIED:20220927T182907Z
UID:1066-1664755200-1667260799@dev.delasallesantiago.edu.do
SUMMARY:Orientación Vocacional “Cuéntame tu historia”
DESCRIPTION:Dpto. de Orientación
URL:https://dev.delasallesantiago.edu.do/event/orientacion-vocacional-cuentame-tu-historia/
LOCATION:Colegio De La Salle\, Santiago\, F855+443\, Av. Juan Pablo Duarte 88\, Santiago De Los Caballeros\, 51000\, Dominican Republic
END:VEVENT
BEGIN:VEVENT
DTSTART;VALUE=DATE:20220930
DTEND;VALUE=DATE:20221001
DTSTAMP:20260424T072741
CREATED:20220928T182412Z
LAST-MODIFIED:20220928T182412Z
UID:1072-1664496000-1664582399@dev.delasallesantiago.edu.do
SUMMARY:Convivencia Sal y Luz
DESCRIPTION:Dpto. de Pastoral
URL:https://dev.delasallesantiago.edu.do/event/convivencia-sal-y-luz/
LOCATION:Colegio De La Salle\, Santiago\, F855+443\, Av. Juan Pablo Duarte 88\, Santiago De Los Caballeros\, 51000\, Dominican Republic
END:VEVENT
BEGIN:VEVENT
DTSTART;VALUE=DATE:20220929
DTEND;VALUE=DATE:20220930
DTSTAMP:20260424T072741
CREATED:20220928T163907Z
LAST-MODIFIED:20220928T163907Z
UID:1070-1664409600-1664495999@dev.delasallesantiago.edu.do
SUMMARY:Elecciones de ADEL
DESCRIPTION:Dpto. de Orientación
URL:https://dev.delasallesantiago.edu.do/event/elecciones-de-adel/
LOCATION:Colegio De La Salle\, Santiago\, F855+443\, Av. Juan Pablo Duarte 88\, Santiago De Los Caballeros\, 51000\, Dominican Republic
END:VEVENT
BEGIN:VEVENT
DTSTART;TZID=UTC:20220928T193000
DTEND;TZID=UTC:20220928T203000
DTSTAMP:20260424T072741
CREATED:20220928T131120Z
LAST-MODIFIED:20220928T131120Z
UID:1068-1664393400-1664397000@dev.delasallesantiago.edu.do
SUMMARY:Reunión virtual informativa Orientación Vocacional y Horas de Servicios (Familias de 6to Secundaria)
DESCRIPTION:Dpto. de Orientación
URL:https://dev.delasallesantiago.edu.do/event/reunion-virtual-informativa-orientacion-vocacional-y-horas-de-servicios-familias-de-6to-secundaria/
LOCATION:Colegio De La Salle\, Santiago\, F855+443\, Av. Juan Pablo Duarte 88\, Santiago De Los Caballeros\, 51000\, Dominican Republic
END:VEVENT
BEGIN:VEVENT
DTSTART;VALUE=DATE:20220928
DTEND;VALUE=DATE:20220929
DTSTAMP:20260424T072741
CREATED:20220927T122116Z
LAST-MODIFIED:20220927T122116Z
UID:1039-1664323200-1664409599@dev.delasallesantiago.edu.do
SUMMARY:Primer Claustro General
DESCRIPTION:No hay docencia para Nivel Inicial y Primaria I. 3ro Primaria hasta 6to Secundaria tienen clases asincronicas.
URL:https://dev.delasallesantiago.edu.do/event/primer-claustro-general/
LOCATION:Colegio De La Salle\, Santiago\, F855+443\, Av. Juan Pablo Duarte 88\, Santiago De Los Caballeros\, 51000\, Dominican Republic
END:VEVENT
BEGIN:VEVENT
DTSTART;TZID=UTC:20220923T080000
DTEND;TZID=UTC:20220923T090000
DTSTAMP:20260424T072741
CREATED:20220921T153827Z
LAST-MODIFIED:20220921T153938Z
UID:1010-1663920000-1663923600@dev.delasallesantiago.edu.do
SUMMARY:Misa por el Dia de Nuestra Señora de Las Mercedes
DESCRIPTION:
URL:https://dev.delasallesantiago.edu.do/event/misa-por-el-dia-de-nuestra-senora-de-las-mercedes/
LOCATION:Colegio De La Salle\, Santiago\, F855+443\, Av. Juan Pablo Duarte 88\, Santiago De Los Caballeros\, 51000\, Dominican Republic
END:VEVENT
BEGIN:VEVENT
DTSTART;TZID=UTC:20220921T150000
DTEND;TZID=UTC:20220921T170000
DTSTAMP:20260424T072741
CREATED:20220920T175133Z
LAST-MODIFIED:20220920T175133Z
UID:1008-1663772400-1663779600@dev.delasallesantiago.edu.do
SUMMARY:DLS Language Center
DESCRIPTION:Empiezan las clases para el DLS Language Center en las tardes.
URL:https://dev.delasallesantiago.edu.do/event/dls-language-center/
LOCATION:Colegio De La Salle\, Santiago\, F855+443\, Av. Juan Pablo Duarte 88\, Santiago De Los Caballeros\, 51000\, Dominican Republic
END:VEVENT
BEGIN:VEVENT
DTSTART;TZID=UTC:20220912T073000
DTEND;TZID=UTC:20220912T080000
DTSTAMP:20260424T072741
CREATED:20220831T171532Z
LAST-MODIFIED:20220909T144556Z
UID:890-1662967800-1662969600@dev.delasallesantiago.edu.do
SUMMARY:Entrega de certificados del TOEFL
DESCRIPTION:Para los estudiantes de 2do ciclo Secundaria.
URL:https://dev.delasallesantiago.edu.do/event/entrega-de-certificados-del-toefl/
LOCATION:Colegio De La Salle\, Santiago\, F855+443\, Av. Juan Pablo Duarte 88\, Santiago De Los Caballeros\, 51000\, Dominican Republic
END:VEVENT
BEGIN:VEVENT
DTSTART;TZID=UTC:20220910T063000
DTEND;TZID=UTC:20220910T160000
DTSTAMP:20260424T072741
CREATED:20220831T171208Z
LAST-MODIFIED:20220831T171208Z
UID:888-1662791400-1662825600@dev.delasallesantiago.edu.do
SUMMARY:Convivencia de Jarabacoa
DESCRIPTION:Para los estudiantes 5to de Secundaria\, Ciclo II
URL:https://dev.delasallesantiago.edu.do/event/convivencia-de-jarabacoa-2/
LOCATION:Colegio De La Salle\, Santiago\, F855+443\, Av. Juan Pablo Duarte 88\, Santiago De Los Caballeros\, 51000\, Dominican Republic
END:VEVENT
END:VCALENDAR